BEGIN:VCALENDAR
VERSION:2.0
PRODID:-//Offene Werkstatt - ECPv6.15.20//NONSGML v1.0//EN
CALSCALE:GREGORIAN
METHOD:PUBLISH
X-WR-CALNAME:Offene Werkstatt
X-ORIGINAL-URL:https://werkstatt.insel-ev.de
X-WR-CALDESC:Veranstaltungen für Offene Werkstatt
REFRESH-INTERVAL;VALUE=DURATION:PT1H
X-Robots-Tag:noindex
X-PUBLISHED-TTL:PT1H
BEGIN:VTIMEZONE
TZID:Europe/Berlin
BEGIN:DAYLIGHT
TZOFFSETFROM:+0100
TZOFFSETTO:+0200
TZNAME:CEST
DTSTART:20250330T010000
END:DAYLIGHT
BEGIN:STANDARD
TZOFFSETFROM:+0200
TZOFFSETTO:+0100
TZNAME:CET
DTSTART:20251026T010000
END:STANDARD
BEGIN:DAYLIGHT
TZOFFSETFROM:+0100
TZOFFSETTO:+0200
TZNAME:CEST
DTSTART:20260329T010000
END:DAYLIGHT
BEGIN:STANDARD
TZOFFSETFROM:+0200
TZOFFSETTO:+0100
TZNAME:CET
DTSTART:20261025T010000
END:STANDARD
BEGIN:DAYLIGHT
TZOFFSETFROM:+0100
TZOFFSETTO:+0200
TZNAME:CEST
DTSTART:20270328T010000
END:DAYLIGHT
BEGIN:STANDARD
TZOFFSETFROM:+0200
TZOFFSETTO:+0100
TZNAME:CET
DTSTART:20271031T010000
END:STANDARD
END:VTIMEZONE
BEGIN:VEVENT
DTSTART;TZID=Europe/Berlin:20260617T140000
DTEND;TZID=Europe/Berlin:20260617T160000
DTSTAMP:20260424T120124
CREATED:20250523T084129Z
LAST-MODIFIED:20260309T161633Z
UID:10001773-1781704800-1781712000@werkstatt.insel-ev.de
SUMMARY:Kurs: Klemmbretter herstellen
DESCRIPTION:Wir recyceln altes Plastik und machen tolle neue Sachen daraus\,\nwie zum Beispiel dieses Klemmbrett.\nIn diesem Kurs bekommst du einen Einblick in unseren Plastik-Recycling-Prozess.\nAnschließend kannst du unter Anleitung ein Klemmbrett aus unseren selbstgemachten Platten\nherstellen. \nEs sind immer absolute Unikate\, echte Hingucker und schöne Geschenke.\nWir freuen uns auf dich. \nWir wünschen uns von den Menschen\, denen es möglich ist\, eine Materialkostenpauschale von 1 Euro. Alle anderen sind herzlich eingeladen zu geben was geht oder wie immer kostenlos teilzunehmen.  \nKaffee\, Tee und Wasser halten wir in der Werkstatt für euch bereit.\nAnmeldung: Schreib eine Mail an werkstatt@insel-ev.de oder sag uns telefonisch Bescheid.
URL:https://werkstatt.insel-ev.de/event/kurs-klemmbretter/2026-06-17
LOCATION:Offener Werkstatt-Treff\, Elbgaustraße 244\, Lurup\, Hamburg\, 22547\, Deutschland
CATEGORIES:Einführung
ATTACH;FMTTYPE=image/jpeg:https://werkstatt.insel-ev.de/wp-content/uploads/2025/05/Foto-Klemmbretter-scaled.jpg
ORGANIZER;CN="Offene Werkstatt":MAILTO:werkstatt@insel-ev.de
END:VEVENT
END:VCALENDAR