BEGIN:VCALENDAR
VERSION:2.0
PRODID:-//Offene Werkstatt - ECPv6.15.20//NONSGML v1.0//EN
CALSCALE:GREGORIAN
METHOD:PUBLISH
X-WR-CALNAME:Offene Werkstatt
X-ORIGINAL-URL:https://werkstatt.insel-ev.de
X-WR-CALDESC:Veranstaltungen für Offene Werkstatt
REFRESH-INTERVAL;VALUE=DURATION:PT1H
X-Robots-Tag:noindex
X-PUBLISHED-TTL:PT1H
BEGIN:VTIMEZONE
TZID:Europe/Berlin
BEGIN:DAYLIGHT
TZOFFSETFROM:+0100
TZOFFSETTO:+0200
TZNAME:CEST
DTSTART:20250330T010000
END:DAYLIGHT
BEGIN:STANDARD
TZOFFSETFROM:+0200
TZOFFSETTO:+0100
TZNAME:CET
DTSTART:20251026T010000
END:STANDARD
BEGIN:DAYLIGHT
TZOFFSETFROM:+0100
TZOFFSETTO:+0200
TZNAME:CEST
DTSTART:20260329T010000
END:DAYLIGHT
BEGIN:STANDARD
TZOFFSETFROM:+0200
TZOFFSETTO:+0100
TZNAME:CET
DTSTART:20261025T010000
END:STANDARD
BEGIN:DAYLIGHT
TZOFFSETFROM:+0100
TZOFFSETTO:+0200
TZNAME:CEST
DTSTART:20270328T010000
END:DAYLIGHT
BEGIN:STANDARD
TZOFFSETFROM:+0200
TZOFFSETTO:+0100
TZNAME:CET
DTSTART:20271031T010000
END:STANDARD
END:VTIMEZONE
BEGIN:VEVENT
DTSTART;TZID=Europe/Berlin:20260530T110000
DTEND;TZID=Europe/Berlin:20260530T140000
DTSTAMP:20260421T155506
CREATED:20240913T131835Z
LAST-MODIFIED:20260309T161457Z
UID:10001772-1780138800-1780149600@werkstatt.insel-ev.de
SUMMARY:Workshop: CNC-Fräsen lernen
DESCRIPTION:Starte mit uns in die Welt des CNC-Fräsens! \nIn diesem Workshop bekommst du eine praktische Einführung ins CNC-Fräsen und lernst\, wie du eigene Entwürfe mit Fusion 360 vorbereitest.\nZusammen erstellen wir ein einfaches Beispielprojekt\, das wir direkt im Anschluss auf der CNC-Fräse umsetzen. \nDu erhältst einen Überblick über alle wichtigen Grundlagen: vom digitalen Design bis zur fertigen gefrästen Form.\nNach dem Kurs weißt du\, wie eine CNC-Fräse arbeitet und bist in der Lage\, eigene kleine Projekte zu realisieren.\nDer Workshop bietet dir einen umfassenden Einstieg und vermittelt die wichtigsten ersten Fähigkeiten und Kenntnisse in dieser modernen Fertigungstechnik. \nBitte bringe deinen eigenen Laptop und eine Maus mit.\nFalls du beides nicht hast\, melde dich einfach vorher bei uns. \nMitmachen können alle ab 14 Jahren\, die grundlegende Computerkenntnisse mitbringen. \nFür Getränke wie Kaffee\, Tee und Wasser ist in unserer Werkstatt gesorgt. \nDer Workshop ist – wie immer – komplett kostenfrei. 🙂 \nWir freuen uns auf euch! \nAnmeldung: Bitte schreib eine kurze Mail an werkstatt@insel-ev.de
URL:https://werkstatt.insel-ev.de/event/workshop-cnc-fraesen-lernen/2026-05-30
LOCATION:Offener Werkstatt-Treff\, Elbgaustraße 244\, Lurup\, Hamburg\, 22547\, Deutschland
CATEGORIES:Einführung,Workshop
ATTACH;FMTTYPE=image/webp:https://werkstatt.insel-ev.de/wp-content/uploads/2022/05/CNC_mini_Detail_UniversalClamp-Bed-1920w.webp
ORGANIZER;CN="Offene Werkstatt":MAILTO:werkstatt@insel-ev.de
END:VEVENT
END:VCALENDAR