BEGIN:VCALENDAR
VERSION:2.0
PRODID:-//Offene Werkstatt - ECPv6.15.20//NONSGML v1.0//EN
CALSCALE:GREGORIAN
METHOD:PUBLISH
X-WR-CALNAME:Offene Werkstatt
X-ORIGINAL-URL:https://werkstatt.insel-ev.de
X-WR-CALDESC:Veranstaltungen für Offene Werkstatt
REFRESH-INTERVAL;VALUE=DURATION:PT1H
X-Robots-Tag:noindex
X-PUBLISHED-TTL:PT1H
BEGIN:VTIMEZONE
TZID:Europe/Berlin
BEGIN:DAYLIGHT
TZOFFSETFROM:+0100
TZOFFSETTO:+0200
TZNAME:CEST
DTSTART:20250330T010000
END:DAYLIGHT
BEGIN:STANDARD
TZOFFSETFROM:+0200
TZOFFSETTO:+0100
TZNAME:CET
DTSTART:20251026T010000
END:STANDARD
BEGIN:DAYLIGHT
TZOFFSETFROM:+0100
TZOFFSETTO:+0200
TZNAME:CEST
DTSTART:20260329T010000
END:DAYLIGHT
BEGIN:STANDARD
TZOFFSETFROM:+0200
TZOFFSETTO:+0100
TZNAME:CET
DTSTART:20261025T010000
END:STANDARD
BEGIN:DAYLIGHT
TZOFFSETFROM:+0100
TZOFFSETTO:+0200
TZNAME:CEST
DTSTART:20270328T010000
END:DAYLIGHT
BEGIN:STANDARD
TZOFFSETFROM:+0200
TZOFFSETTO:+0100
TZNAME:CET
DTSTART:20271031T010000
END:STANDARD
END:VTIMEZONE
BEGIN:VEVENT
DTSTART;TZID=Europe/Berlin:20260429T140000
DTEND;TZID=Europe/Berlin:20260429T160000
DTSTAMP:20260419T160655
CREATED:20240423T081130Z
LAST-MODIFIED:20260309T160752Z
UID:10001765-1777471200-1777478400@werkstatt.insel-ev.de
SUMMARY:Siebdruck-Workshop
DESCRIPTION:In diesem Workshop lernen wir gemeinsam die Welt des Siebdrucks kennen und machen die ersten praktischen Schritte – von der Belichtung eines Siebes bis hin zum Druck deines eigenen Motivs auf Stoff. Dafür brauchst du ein selbstgewähltes Design\, das du bitte auf zwei festen transparenten Folien in tiefem Schwarz (keine Graustufen) und in klaren\, gut erkennbaren Linien mitbringst. Dies geht mit einem Tintenstrahldrucker oder in einem CopyShop. Das Motiv sollte nicht größer als DIN A5 sein. \nDer Siebdruck kann dann auf nahezu jeden Stoff mit glatter Oberfläche gedruckt werden – zum Beispiel auf T-Shirts\, Stofftaschen\, Tischdecken oder Kissenbezüge. Bringe also gerne etwas mit\, das du individuell gestalten möchtest. Nach dem Druck muss das Werk gut durchtrocknen – dein fertiges Stück kannst du dann am nächsten Tag abholen. \nEin Teil des Workshops findet in einer kleinen Dunkelkammer mit Rotlicht statt\, daher arbeiten wir zeitweise auf engem Raum. \nWir freuen uns auf einen gemeinsamen Nachmittag mit euch – und auf tolle Siebdruck-Ergebnisse! \n  \nKaffee\, Tee und Wasser halten wir in der Werkstatt für euch bereit. Bzgl. Barrierefreiheit meldet euch bitte bei uns.\n \nAnmeldung: Bitte schreibe eine Mail an werkstatt@insel-ev.de oder sag telefonisch Bescheid. \nWenn wir weniger als 4 Teilnehmende haben\, muss der Kurs leider ausfallen. Daher bitten wir dich\, rechtzeitig abzusagen\, falls doch etwas dazwischen kommt. Danke! 🙂 \n  \nBitte vor dem Kurs telefonisch die Motivwahl und die Stoffauswahl mit uns abklären. \nWir freuen uns auf Euch! \n  \n  \n 
URL:https://werkstatt.insel-ev.de/event/siebdruck-workshop/2026-04-29
LOCATION:Offener Werkstatt-Treff\, Elbgaustraße 244\, Lurup\, Hamburg\, 22547\, Deutschland
CATEGORIES:Workshop
ATTACH;FMTTYPE=image/jpeg:https://werkstatt.insel-ev.de/wp-content/uploads/2024/04/Foto-Siebdruck-scaled.jpg
ORGANIZER;CN="Offene Werkstatt":MAILTO:werkstatt@insel-ev.de
END:VEVENT
END:VCALENDAR