BEGIN:VCALENDAR
VERSION:2.0
PRODID:-//Offene Werkstatt - ECPv6.15.20//NONSGML v1.0//EN
CALSCALE:GREGORIAN
METHOD:PUBLISH
X-WR-CALNAME:Offene Werkstatt
X-ORIGINAL-URL:https://werkstatt.insel-ev.de
X-WR-CALDESC:Veranstaltungen für Offene Werkstatt
REFRESH-INTERVAL;VALUE=DURATION:PT1H
X-Robots-Tag:noindex
X-PUBLISHED-TTL:PT1H
BEGIN:VTIMEZONE
TZID:Europe/Berlin
BEGIN:DAYLIGHT
TZOFFSETFROM:+0100
TZOFFSETTO:+0200
TZNAME:CEST
DTSTART:20250330T010000
END:DAYLIGHT
BEGIN:STANDARD
TZOFFSETFROM:+0200
TZOFFSETTO:+0100
TZNAME:CET
DTSTART:20251026T010000
END:STANDARD
BEGIN:DAYLIGHT
TZOFFSETFROM:+0100
TZOFFSETTO:+0200
TZNAME:CEST
DTSTART:20260329T010000
END:DAYLIGHT
BEGIN:STANDARD
TZOFFSETFROM:+0200
TZOFFSETTO:+0100
TZNAME:CET
DTSTART:20261025T010000
END:STANDARD
BEGIN:DAYLIGHT
TZOFFSETFROM:+0100
TZOFFSETTO:+0200
TZNAME:CEST
DTSTART:20270328T010000
END:DAYLIGHT
BEGIN:STANDARD
TZOFFSETFROM:+0200
TZOFFSETTO:+0100
TZNAME:CET
DTSTART:20271031T010000
END:STANDARD
END:VTIMEZONE
BEGIN:VEVENT
DTSTART;TZID=Europe/Berlin:20260520T140000
DTEND;TZID=Europe/Berlin:20260520T160000
DTSTAMP:20260424T153603
CREATED:20250523T090157Z
LAST-MODIFIED:20260309T161350Z
UID:10001771-1779285600-1779292800@werkstatt.insel-ev.de
SUMMARY:Kurs: Alles aus Tetrapack
DESCRIPTION:Tetrapacks sind ein tolles Ausgangsmaterial für viele nachhaltige Projekte.\nPortemonnaie\, Blumenvase\, Aufbewahrungsbox\, Dokumentenhüllen\,….und vieles\nandere Schöne mehr kann aus alten Milch- und Safttüten entstehen. Sie lassen sich vernähen\,\nbesticken und als Druckvorlage nutzen.\nWir wollen einiges davon gemeinsam auszuprobieren und experimentieren\, dabei soll die Freude am\ngemeinschaftlichen und kreativen Tun im Vordergrund stehen.\nBring deine Ideen mit und lass uns schauen was entsteht.\nKaffee\, Tee und Wasser halten wir in der Werkstatt für euch bereit.\nWir freuen uns auf euch.\nAnmeldung bitte unter werkstatt@insel-ev.de oder telefonisch unter 040/ 380 38 36 244
URL:https://werkstatt.insel-ev.de/event/alles-aus-tetrapack/2026-05-20
LOCATION:Offener Werkstatt-Treff\, Elbgaustraße 244\, Lurup\, Hamburg\, 22547\, Deutschland
CATEGORIES:Einführung
ATTACH;FMTTYPE=image/jpeg:https://werkstatt.insel-ev.de/wp-content/uploads/2024/12/IMG_20250107_093759-scaled.jpg
ORGANIZER;CN="Offene Werkstatt":MAILTO:werkstatt@insel-ev.de
END:VEVENT
END:VCALENDAR