BEGIN:VCALENDAR
VERSION:2.0
PRODID:-//Offene Werkstatt - ECPv6.15.20//NONSGML v1.0//EN
CALSCALE:GREGORIAN
METHOD:PUBLISH
X-WR-CALNAME:Offene Werkstatt
X-ORIGINAL-URL:https://werkstatt.insel-ev.de
X-WR-CALDESC:Veranstaltungen für Offene Werkstatt
REFRESH-INTERVAL;VALUE=DURATION:PT1H
X-Robots-Tag:noindex
X-PUBLISHED-TTL:PT1H
BEGIN:VTIMEZONE
TZID:Europe/Berlin
BEGIN:DAYLIGHT
TZOFFSETFROM:+0100
TZOFFSETTO:+0200
TZNAME:CEST
DTSTART:20230326T010000
END:DAYLIGHT
BEGIN:STANDARD
TZOFFSETFROM:+0200
TZOFFSETTO:+0100
TZNAME:CET
DTSTART:20231029T010000
END:STANDARD
BEGIN:DAYLIGHT
TZOFFSETFROM:+0100
TZOFFSETTO:+0200
TZNAME:CEST
DTSTART:20240331T010000
END:DAYLIGHT
BEGIN:STANDARD
TZOFFSETFROM:+0200
TZOFFSETTO:+0100
TZNAME:CET
DTSTART:20241027T010000
END:STANDARD
BEGIN:DAYLIGHT
TZOFFSETFROM:+0100
TZOFFSETTO:+0200
TZNAME:CEST
DTSTART:20250330T010000
END:DAYLIGHT
BEGIN:STANDARD
TZOFFSETFROM:+0200
TZOFFSETTO:+0100
TZNAME:CET
DTSTART:20251026T010000
END:STANDARD
END:VTIMEZONE
BEGIN:VEVENT
DTSTART;TZID=Europe/Berlin:20240502T173000
DTEND;TZID=Europe/Berlin:20240502T190000
DTSTAMP:20260420T181727
CREATED:20240430T150131Z
LAST-MODIFIED:20240430T150131Z
UID:10000665-1714671000-1714676400@werkstatt.insel-ev.de
SUMMARY:Rundgang/-fahrt Barrierefreiheit - mit subversivem Rampenbau - YEAH!
DESCRIPTION:Liebe Freunde und Freundinnen der barrierelosen Freiheit\, \n  \nanlässlich des „Europäischen Protesttags für die Gleichstellung von Menschen mit Behinderungen“ veranstalten wir am Donnerstag\, den 02. Mai um 17:30 Uhr einen Rundgang durch Lurup. \nUnser Ziel ist es\, gemeinsam nach vorhandenen Mobilitäts-Hindernissen in Lurup zu suchen\, z. B. Absätze\, Kantsteine oder Treppen. Angeleitet werden wir dabei von drei Expert_innen im Rollstuhlfahren. Die gefundenen Orte werden wir im Anschluss in einer interaktiven Karte einbauen\, die von allen Interessierten auch im Nachhinein erweitert werden kann. \n  \nBei einem weiteren Treffen werden wir Ideen für den Bau einer Rampe sammeln. Danach wird mindestens eine Rampe gebaut und an einer der gefundenen Stellen installiert. Auch dabei können alle mitmachen. \n  \nDer Rundgang ist für Menschen mit und ohne Mobilitätseinschränkung. Wir bringen Rollstühle mit\, um die Barrieren bei Interesse auch erfahrbar zu machen. \n  \nWir treffen uns vor dem Stadtteilhaus Lurup\, Böverstland 38. \n  \nNach dem ca. 1-stündigen Rundgang kehren wir zum Stadtteilhaus zurück\, um bei einem Snack und Getränk das Erlebte zu besprechen und Pläne zu schmieden. \n  \nMöglich ist dieses Projekt durch die Förderung von Aktion Mensch. Tolle Stiftung\, kauft euch gern mal ein Los! \n  \nBei Rückfragen meldet euch gern unter werkstatt@insel-ev.de\, 040-380 38 36 244
URL:https://werkstatt.insel-ev.de/event/rundgang-fahrt-barrierefreiheit-mit-subversivem-rampenbau-yeah
LOCATION:Stadtteilhaus Lurup\, Böverstland 38\, Böverstland 38\, Hamburg\, 22547\, Deutschland
CATEGORIES:Rundgang
ATTACH;FMTTYPE=image/jpeg:https://werkstatt.insel-ev.de/wp-content/uploads/2022/05/guenter.jpg
ORGANIZER;CN="Offene Werkstatt":MAILTO:werkstatt@insel-ev.de
END:VEVENT
BEGIN:VEVENT
DTSTART;TZID=Europe/Berlin:20240518T140000
DTEND;TZID=Europe/Berlin:20240518T170000
DTSTAMP:20260420T181727
CREATED:20240410T125545Z
LAST-MODIFIED:20240410T125545Z
UID:10000660-1716040800-1716051600@werkstatt.insel-ev.de
SUMMARY:Einführung in 3D-Druck und 3D-Design (CAD) mit Fusion 360
DESCRIPTION:Hast Du Lust auf 3D-Druck? Prima\, dann komm vorbei! \nBei uns im inklusiven FabLab von insel e.V. wollen wir mit euch lernen\, wie ihr selbst etwas 3D-drucken könnt. Gemeinsam designen wir selbst mit einer – für Privatpersonen kostenfreien – professionellen 3D-Designsoftware\, auch genannt CAD\, unseren eigenen Schlüsselanhänger\, der uns zu einer kostenlosen Quelle an unendlich vielen Einkaufswägen führen wird. Im Anschluss drucken wir diesen aus. \nNach dem Workshop versteht ihr die Grundlagen des 3D-Designs und könnt selbstständig weiter an euren Fähigkeiten arbeiten\, zudem könnt ihr selbst etwas 3D-drucken und wisst\, wo das kostenfrei geht. \nDas klingt gut? Dann melde Dich an. Wir freuen uns auf Dich! \n  \n\nErforderlich für den Kurs sind grundlegende Computerkentnisse.\nHardware: Super wäre ein Laptop. Wenn du keinen hast\, haben wir aber einen da.\nAnmeldung: Bitte schreibe eine Mail an werkstatt@insel-ev.de
URL:https://werkstatt.insel-ev.de/event/einfuehrung-in-3d-druck-und-3d-design-cad-mit-fusion-360-5
LOCATION:Offener Werkstatt-Treff\, Elbgaustraße 244\, Lurup\, Hamburg\, 22547\, Deutschland
CATEGORIES:Einführung,Schnupperkurs
ATTACH;FMTTYPE=image/jpeg:https://werkstatt.insel-ev.de/wp-content/uploads/2023/10/20220805_120751-scaled.jpg
ORGANIZER;CN="Offene Werkstatt":MAILTO:werkstatt@insel-ev.de
END:VEVENT
END:VCALENDAR