BEGIN:VCALENDAR
VERSION:2.0
PRODID:-//Offene Werkstatt - ECPv6.15.20//NONSGML v1.0//EN
CALSCALE:GREGORIAN
METHOD:PUBLISH
X-ORIGINAL-URL:https://werkstatt.insel-ev.de
X-WR-CALDESC:Veranstaltungen für Offene Werkstatt
REFRESH-INTERVAL;VALUE=DURATION:PT1H
X-Robots-Tag:noindex
X-PUBLISHED-TTL:PT1H
BEGIN:VTIMEZONE
TZID:Europe/Berlin
BEGIN:DAYLIGHT
TZOFFSETFROM:+0100
TZOFFSETTO:+0200
TZNAME:CEST
DTSTART:20230326T010000
END:DAYLIGHT
BEGIN:STANDARD
TZOFFSETFROM:+0200
TZOFFSETTO:+0100
TZNAME:CET
DTSTART:20231029T010000
END:STANDARD
BEGIN:DAYLIGHT
TZOFFSETFROM:+0100
TZOFFSETTO:+0200
TZNAME:CEST
DTSTART:20240331T010000
END:DAYLIGHT
BEGIN:STANDARD
TZOFFSETFROM:+0200
TZOFFSETTO:+0100
TZNAME:CET
DTSTART:20241027T010000
END:STANDARD
BEGIN:DAYLIGHT
TZOFFSETFROM:+0100
TZOFFSETTO:+0200
TZNAME:CEST
DTSTART:20250330T010000
END:DAYLIGHT
BEGIN:STANDARD
TZOFFSETFROM:+0200
TZOFFSETTO:+0100
TZNAME:CET
DTSTART:20251026T010000
END:STANDARD
END:VTIMEZONE
BEGIN:VEVENT
DTSTART;TZID=Europe/Berlin:20240907T120000
DTEND;TZID=Europe/Berlin:20240907T170000
DTSTAMP:20260421T002500
CREATED:20240802T115122Z
LAST-MODIFIED:20240823T074406Z
UID:10000802-1725710400-1725728400@werkstatt.insel-ev.de
SUMMARY:Junk Music Box - Sounds mit Drumcomputer & Müll - im Rahmen der Klimawoche Osdorf
DESCRIPTION:Jappadappaduh! Wir bauen zusammen eine Junk-Music-Box aus recyceltem Kunststoff\, einem Rasperry Pi & Müll. \nDas Ding funktioniert wie eine Drum-Machine und macht mächtig krach\, je nachdem\, welche Bestandtteile ihr euch ausdenkt. Eine Hi-Hat aus dem Deckel einer Fahrradklingel\, angestoßen von einem alten verbogenen Esslöffel\, eine Base-Drum mit dem Klang einer kaputten Gießkanne… Lasst eurer Kreativität und Musikalität freien Lauf! \nTeilnehmen können 4 bis 6 Personen ab 14 Jahren\, Jugendliche haben Vorrang 😎 \nAngeleitet werdet ihr von unserem Nahezualleskönner Leven. \nWie alle Workshops der Offenen Recycling-Werkstatt ist auch dieser kostenfrei. \nFür die Anmeldung oder Fragen sendet eine Mail an werkstatt@insel-ev.de \n  \n  \nDiese Veranstaltung bieten wir im Rahmen der Klimawoche Osdorf an\, der Veranstaltungsort ist die Offene Recyclingwerkstatt in Lurup.
URL:https://werkstatt.insel-ev.de/event/eigene-kuechenuhr-bauen-im-rahmen-der-nachhaltigkeitswoche-osdorfer-born-mit-3d-druck-tinkercad
LOCATION:Offener Werkstatt-Treff\, Elbgaustraße 244\, Lurup\, Hamburg\, 22547\, Deutschland
CATEGORIES:Einführung,Schnupperkurs
ATTACH;FMTTYPE=image/jpeg:https://werkstatt.insel-ev.de/wp-content/uploads/2024/03/junk-box.jpg
ORGANIZER;CN="Offene Werkstatt":MAILTO:werkstatt@insel-ev.de
END:VEVENT
END:VCALENDAR