BEGIN:VCALENDAR
VERSION:2.0
PRODID:-//Offene Werkstatt - ECPv6.15.20//NONSGML v1.0//EN
CALSCALE:GREGORIAN
METHOD:PUBLISH
X-WR-CALNAME:Offene Werkstatt
X-ORIGINAL-URL:https://werkstatt.insel-ev.de
X-WR-CALDESC:Veranstaltungen für Offene Werkstatt
REFRESH-INTERVAL;VALUE=DURATION:PT1H
X-Robots-Tag:noindex
X-PUBLISHED-TTL:PT1H
BEGIN:VTIMEZONE
TZID:Europe/Berlin
BEGIN:DAYLIGHT
TZOFFSETFROM:+0100
TZOFFSETTO:+0200
TZNAME:CEST
DTSTART:20230326T010000
END:DAYLIGHT
BEGIN:STANDARD
TZOFFSETFROM:+0200
TZOFFSETTO:+0100
TZNAME:CET
DTSTART:20231029T010000
END:STANDARD
BEGIN:DAYLIGHT
TZOFFSETFROM:+0100
TZOFFSETTO:+0200
TZNAME:CEST
DTSTART:20240331T010000
END:DAYLIGHT
BEGIN:STANDARD
TZOFFSETFROM:+0200
TZOFFSETTO:+0100
TZNAME:CET
DTSTART:20241027T010000
END:STANDARD
BEGIN:DAYLIGHT
TZOFFSETFROM:+0100
TZOFFSETTO:+0200
TZNAME:CEST
DTSTART:20250330T010000
END:DAYLIGHT
BEGIN:STANDARD
TZOFFSETFROM:+0200
TZOFFSETTO:+0100
TZNAME:CET
DTSTART:20251026T010000
END:STANDARD
END:VTIMEZONE
BEGIN:VEVENT
DTSTART;TZID=Europe/Berlin:20241019T120000
DTEND;TZID=Europe/Berlin:20241019T150000
DTSTAMP:20260422T124003
CREATED:20240611T121811Z
LAST-MODIFIED:20241016T135954Z
UID:10000788-1729339200-1729350000@werkstatt.insel-ev.de
SUMMARY:EINFACHE Einführung in 3D-Druck mit BlocksCad
DESCRIPTION:Hast Du Lust auf 3D-Druck? Prima\, dann komm vorbei! \nFür Kinder oder Menschen\, die nicht so Fit sind mit dem Computer\, bieten wir eine einfache Einführung in 3D-Druck an. Dafür verwenden wir die kostenfreie Software „BlocksCad“. \nDabei könnt ihr lernen\, wie ihr selbst etwas in 3D gestalten könnt. Gemeinsam designen wir einen Schlüsselanhänger mit einer einfachen CAD-Software (Computer-Aided Design)\, die speziell für Einsteiger_innen und Kinder entwickelt wurde. Im Anschluss drucken wir diesen aus und er kann uns zukünftig auch als praktischer Einkaufswagenchip dienen. \nNach dem Workshop versteht ihr einige Grundlagen des 3D-Designs und könnt selbstständig weiter an euren Fähigkeiten arbeiten. Ihr könnt eigene 3D-Projekte starten und wisst\, wo ihr sie ausdrucken könnt. \nDas klingt gut? Dann melde Dich an. Wir freuen uns auf Dich! \n  \n\nErforderlich für den Kurs sind geringe grundlegende Computerkentnisse (Maus bedienen).\nHardware: Super wäre ein Laptop. Wenn du keinen hast\, haben wir einen da.\nAnmeldung: Bitte schreib eine Mail an werkstatt@insel-ev.de
URL:https://werkstatt.insel-ev.de/event/einfache-einfuehrung-in-3d-druck-mit-tinkercad
LOCATION:Offener Werkstatt-Treff\, Elbgaustraße 244\, Lurup\, Hamburg\, 22547\, Deutschland
CATEGORIES:Einführung,Schnupperkurs
ATTACH;FMTTYPE=image/jpeg:https://werkstatt.insel-ev.de/wp-content/uploads/2023/10/20220805_120751-scaled.jpg
ORGANIZER;CN="Offene Werkstatt":MAILTO:werkstatt@insel-ev.de
END:VEVENT
BEGIN:VEVENT
DTSTART;TZID=Europe/Berlin:20241024T130000
DTEND;TZID=Europe/Berlin:20241024T160000
DTSTAMP:20260422T124003
CREATED:20240913T111455Z
LAST-MODIFIED:20250131T142306Z
UID:10000805-1729774800-1729785600@werkstatt.insel-ev.de
SUMMARY:Ferienkurs: Murmelbahn
DESCRIPTION:Habt Ihr Lust gemeinsam kreativ zu sein?\nWir wollen aus recycelten Materialien Murmelbahnen bauen. \nWir nutzen Gebrauchtes\, um ein Bewusstsein für Recycling/Upcycling zu stärken.\nAus alten Holzresten und Magneten werdet ihr Murmelbahnteile bauen\, die\ndann an magnetischen Oberflächen immer wieder neu aufgebaut werden können.\nBitte bringt alles mit\, von dem ihr glaubt es sei für euer Projekt von Nutzen\, zum Beispiel alte Kühlschrankmagnete\, kleine Holzreste\, Murmeln\, Farbe zum Bemalen….\nViele Materialien stehen Euch vor Ort zur Verfügung. \n  \nIm Vordergrund steht die Freude am Kreativsein und das gemeinschaftliche Werkeln.\nWir freuen uns auf Euch. \nKaffee\, Tee und Wasser stellen wir zur Verfügung. \nDer Kurs ist kostenfrei und für 4 Erwachsenen-Kind-Teams (Kinder ab 8 Jahren) ausgelegt.\nWenn Ihr Fragen habt ruft gern durch. \n  \nAnmeldung: Bitte sag uns telefonisch Bescheid oder\nschreib eine Mail an werkstatt@insel-ev.de
URL:https://werkstatt.insel-ev.de/event/ferienkurs-murmelbahn/2024-10-24
LOCATION:Offener Werkstatt-Treff\, Elbgaustraße 244\, Lurup\, Hamburg\, 22547\, Deutschland
CATEGORIES:Einführung
ATTACH;FMTTYPE=image/jpeg:https://werkstatt.insel-ev.de/wp-content/uploads/2024/09/Foto-Murmeln-scaled.jpg
ORGANIZER;CN="Offene Werkstatt":MAILTO:werkstatt@insel-ev.de
END:VEVENT
BEGIN:VEVENT
DTSTART;TZID=Europe/Berlin:20241029T160000
DTEND;TZID=Europe/Berlin:20241029T183000
DTSTAMP:20260422T124003
CREATED:20240913T124738Z
LAST-MODIFIED:20240919T155915Z
UID:10000813-1730217600-1730226600@werkstatt.insel-ev.de
SUMMARY:Precious Plastic Workshop
DESCRIPTION:Falls Du Dich für die verschiedenen Möglichkeiten der Plastik-Verarbeitung interessierst\, ist dieser Workshop ein MUSS. Hier lernst Du einen Großteil der Maschinen und Möglichkeiten aus dem „Precious Plastic“ Netzwerk kennen. \nUnser Workshopleiter Leven wird Euch an diesem Tag die einzelnen Schritte zeigen. Gemeinsam wird Plastik nach Plastikart und Farbe sortiert\, zu Granulat verkleinert und dann eingeschmolzen. Am Ende entsteht ein neues Produkt aus recyceltem Plastik\, das ihr mit nach Hause nehmen könnt. \nDer Workshop ist kostenfrei. Wir kümmern uns um Getränke.\nBitte lange Kleidung aus Baumwolle anziehen. Es gibt eine Sicherheitseinweisung. Bevor es dann losgehen kann\, muss noch ein Haftungsausschluss unterschrieben werden. \nDas klingt gut? Dann melde Dich an. Wir freuen uns auf Dich! \nAnmeldung: Bitte schreibe eine Mail an werkstatt@insel-ev.de
URL:https://werkstatt.insel-ev.de/event/precious-plastic-workshop/2024-10-29
LOCATION:Offener Werkstatt-Treff\, Elbgaustraße 244\, Lurup\, Hamburg\, 22547\, Deutschland
CATEGORIES:Einführung,Plastikrecycling
ATTACH;FMTTYPE=image/jpeg:https://werkstatt.insel-ev.de/wp-content/uploads/2023/06/20230608_112303-scaled.jpg
ORGANIZER;CN="Offene Werkstatt":MAILTO:werkstatt@insel-ev.de
END:VEVENT
END:VCALENDAR