BEGIN:VCALENDAR
VERSION:2.0
PRODID:-//Offene Werkstatt - ECPv6.15.20//NONSGML v1.0//EN
CALSCALE:GREGORIAN
METHOD:PUBLISH
X-ORIGINAL-URL:https://werkstatt.insel-ev.de
X-WR-CALDESC:Veranstaltungen für Offene Werkstatt
REFRESH-INTERVAL;VALUE=DURATION:PT1H
X-Robots-Tag:noindex
X-PUBLISHED-TTL:PT1H
BEGIN:VTIMEZONE
TZID:Europe/Berlin
BEGIN:DAYLIGHT
TZOFFSETFROM:+0100
TZOFFSETTO:+0200
TZNAME:CEST
DTSTART:20240331T010000
END:DAYLIGHT
BEGIN:STANDARD
TZOFFSETFROM:+0200
TZOFFSETTO:+0100
TZNAME:CET
DTSTART:20241027T010000
END:STANDARD
BEGIN:DAYLIGHT
TZOFFSETFROM:+0100
TZOFFSETTO:+0200
TZNAME:CEST
DTSTART:20250330T010000
END:DAYLIGHT
BEGIN:STANDARD
TZOFFSETFROM:+0200
TZOFFSETTO:+0100
TZNAME:CET
DTSTART:20251026T010000
END:STANDARD
BEGIN:DAYLIGHT
TZOFFSETFROM:+0100
TZOFFSETTO:+0200
TZNAME:CEST
DTSTART:20260329T010000
END:DAYLIGHT
BEGIN:STANDARD
TZOFFSETFROM:+0200
TZOFFSETTO:+0100
TZNAME:CET
DTSTART:20261025T010000
END:STANDARD
END:VTIMEZONE
BEGIN:VEVENT
DTSTART;TZID=Europe/Berlin:20250312T140000
DTEND;TZID=Europe/Berlin:20250312T160000
DTSTAMP:20260424T121725
CREATED:20250129T143232Z
LAST-MODIFIED:20250129T143232Z
UID:10000831-1741788000-1741795200@werkstatt.insel-ev.de
SUMMARY:Ferienkurs: Kerzenwerkstatt
DESCRIPTION:Aus gereinigten Wachs- und Kerzenresten kann an diesem Tag die neue Lieblingskerze entstehen. \n  \nEine Mitarbeiterin begleitet den Kurs\, gibt Anleitung\, Unterstützung und Hilfe. Außerdem gibt es viel Raum für die eigenen Ideen. Wir haben viele verschiedene Wachsfarben und Kerzenformen vorrätig\, so dass Jede_r etwas findet. \nVielleicht habt ihr auch eine Kerzenhülle Zuhause\, die neu gefüllt werden soll oder ein schönes Glas\, dass ein neues Leben als Kerze verdient. Alle Ideen sind willkommen. \n  \nKaffee und Tee und ein Rundgang durch die Werkstatt sind inklusiv. So wir wir 🙂 \n  \nTeilnehmende: Erwachsene und Kinder ab 8 Jahre. Der Kurs ist für 4 Erwachsenen-Kind-Teams ausgelegt. \n  \nWir freuen uns auf euch! \nAnmeldung: Bitte schreibe eine Mail an werkstatt@insel-ev.de oder ruf uns an: 040 380 38 36 – 244
URL:https://werkstatt.insel-ev.de/event/ferienkurs-kerzenwerkstatt/2025-03-12
LOCATION:Offener Werkstatt-Treff\, Elbgaustraße 244\, Lurup\, Hamburg\, 22547\, Deutschland
CATEGORIES:Einführung,Schnupperkurs
ATTACH;FMTTYPE=image/jpeg:https://werkstatt.insel-ev.de/wp-content/uploads/2024/06/IMG_20240604_153359-scaled.jpg
ORGANIZER;CN="Offene Werkstatt":MAILTO:werkstatt@insel-ev.de
END:VEVENT
BEGIN:VEVENT
DTSTART;TZID=Europe/Berlin:20250313T140000
DTEND;TZID=Europe/Berlin:20250313T160000
DTSTAMP:20260424T121725
CREATED:20250131T141750Z
LAST-MODIFIED:20250131T141750Z
UID:10000832-1741874400-1741881600@werkstatt.insel-ev.de
SUMMARY:Ferienkurs: nachhaltiges Osterbasteln
DESCRIPTION:Habt ihr Lust etwas für das Osterfest herzustellen?\nWir nutzen Gebrauchtes\, um ein Bewusstsein für Recycling/Upcycling zu stärken.\nAus unterschiedlichen Materialien wie z.B. Eierkarton\, Papier\, Stoffresten wollen wir etwas Tolles zum Dekorieren\, Verschenken und/ oder selbst behalten basteln.\nWir haben einiges vorbereitet und ihr könnt gemeinsam an eurem Lieblingsprojekt werkeln.\nViele Materialien stehen hier zur Verfügung\, falls ihr habt bringt gerne mit: Eierkarton\, Acrylfarben\, Klebstoff\,…\nWenn ihr Fragen habt ruft gerne durch. \nDer Kurs ist für 5 Erwachsenen-Kind-Teams ausgelegt (Kinder ab 8 Jahren). \nWir freuen uns auf euch. Wie alle unsere Angebote ist dieser Kurs kostenfrei. \nAnmeldung: Bitte sag uns telefonisch Bescheid oder\nschreib eine Mail an werkstatt@insel-ev.de
URL:https://werkstatt.insel-ev.de/event/ferienkurs-nachhaltiges-osterbasteln
LOCATION:Offener Werkstatt-Treff\, Elbgaustraße 244\, Lurup\, Hamburg\, 22547\, Deutschland
CATEGORIES:Freizeit
ATTACH;FMTTYPE=image/jpeg:https://werkstatt.insel-ev.de/wp-content/uploads/2025/01/1738060482233-scaled.jpg
ORGANIZER;CN="Offene Werkstatt":MAILTO:werkstatt@insel-ev.de
END:VEVENT
BEGIN:VEVENT
DTSTART;TZID=Europe/Berlin:20250319T140000
DTEND;TZID=Europe/Berlin:20250319T160000
DTSTAMP:20260424T121725
CREATED:20250131T141841Z
LAST-MODIFIED:20250131T141841Z
UID:10000833-1742392800-1742400000@werkstatt.insel-ev.de
SUMMARY:Ferienkurs: nachhaltiges Osterbasteln
DESCRIPTION:Habt ihr Lust etwas für das Osterfest herzustellen?\nWir nutzen Gebrauchtes\, um ein Bewusstsein für Recycling/Upcycling zu stärken.\nAus unterschiedlichen Materialien wie z.B. Eierkarton\, Papier\, Stoffresten wollen wir etwas Tolles zum Dekorieren\, Verschenken und/ oder selbst behalten basteln.\nWir haben einiges vorbereitet und ihr könnt gemeinsam an eurem Lieblingsprojekt werkeln.\nViele Materialien stehen hier zur Verfügung\, falls ihr habt bringt gerne mit: Eierkarton\, Acrylfarben\, Klebstoff\,…\nWenn ihr Fragen habt ruft gerne durch. \nDer Kurs ist für 5 Erwachsenen-Kind-Teams ausgelegt (Kinder ab 8 Jahren). \nWir freuen uns auf euch. Wie alle unsere Angebote ist dieser Kurs kostenfrei. \nAnmeldung: Bitte sag uns telefonisch Bescheid oder\nschreib eine Mail an werkstatt@insel-ev.de
URL:https://werkstatt.insel-ev.de/event/ferienkurs-nachhaltiges-osterbasteln-2
LOCATION:Offener Werkstatt-Treff\, Elbgaustraße 244\, Lurup\, Hamburg\, 22547\, Deutschland
CATEGORIES:Freizeit
ATTACH;FMTTYPE=image/jpeg:https://werkstatt.insel-ev.de/wp-content/uploads/2025/01/1738060482233-scaled.jpg
ORGANIZER;CN="Offene Werkstatt":MAILTO:werkstatt@insel-ev.de
END:VEVENT
END:VCALENDAR