BEGIN:VCALENDAR
VERSION:2.0
PRODID:-//Offene Werkstatt - ECPv6.15.20//NONSGML v1.0//EN
CALSCALE:GREGORIAN
METHOD:PUBLISH
X-WR-CALNAME:Offene Werkstatt
X-ORIGINAL-URL:https://werkstatt.insel-ev.de
X-WR-CALDESC:Veranstaltungen für Offene Werkstatt
REFRESH-INTERVAL;VALUE=DURATION:PT1H
X-Robots-Tag:noindex
X-PUBLISHED-TTL:PT1H
BEGIN:VTIMEZONE
TZID:Europe/Berlin
BEGIN:DAYLIGHT
TZOFFSETFROM:+0100
TZOFFSETTO:+0200
TZNAME:CEST
DTSTART:20240331T010000
END:DAYLIGHT
BEGIN:STANDARD
TZOFFSETFROM:+0200
TZOFFSETTO:+0100
TZNAME:CET
DTSTART:20241027T010000
END:STANDARD
BEGIN:DAYLIGHT
TZOFFSETFROM:+0100
TZOFFSETTO:+0200
TZNAME:CEST
DTSTART:20250330T010000
END:DAYLIGHT
BEGIN:STANDARD
TZOFFSETFROM:+0200
TZOFFSETTO:+0100
TZNAME:CET
DTSTART:20251026T010000
END:STANDARD
BEGIN:DAYLIGHT
TZOFFSETFROM:+0100
TZOFFSETTO:+0200
TZNAME:CEST
DTSTART:20260329T010000
END:DAYLIGHT
BEGIN:STANDARD
TZOFFSETFROM:+0200
TZOFFSETTO:+0100
TZNAME:CET
DTSTART:20261025T010000
END:STANDARD
END:VTIMEZONE
BEGIN:VEVENT
DTSTART;TZID=Europe/Berlin:20251202T170000
DTEND;TZID=Europe/Berlin:20251202T190000
DTSTAMP:20260424T161302
CREATED:20250820T102708Z
LAST-MODIFIED:20260302T095303Z
UID:10000955-1764694800-1764702000@werkstatt.insel-ev.de
SUMMARY:Textiles Repair-Cafe
DESCRIPTION:Deine Lieblingshose hat ein Loch\, die Ärmel der neuen Bluse sind zu lang oder du willst aus einem alten Shirt etwas ganz Neues machen? Du würdest gern loslegen\, weißt aber nicht so recht\, wie? \nDann bist du bei uns genau richtig. Wir bieten dir Unterstützung bei deinen Ideen und helfen bei der Umsetzung\, damit dein Lieblingsstück nicht weggeschmissen werden muss und Gebrauchtes ein zweites Leben bekommt. \nIn der Werkstatt stehen dir Nähmaschinen\, Garn\, Knöpfe\, Stoffe und viele weitere Materialien zur Verfügung – und natürlich helfende Hände. \nAlso ran an den Kleiderschrank und kommt her\, wir freuen uns auf euch. \nWann: Jeden ersten und letzten Dienstag im Monat von 17:00- 19:00 Uhr
URL:https://werkstatt.insel-ev.de/event/textiles-repair-cafe/2025-12-02
LOCATION:Offener Werkstatt-Treff\, Elbgaustraße 244\, Lurup\, Hamburg\, 22547\, Deutschland
CATEGORIES:Gruppe
ATTACH;FMTTYPE=image/jpeg:https://werkstatt.insel-ev.de/wp-content/uploads/2025/08/IMG_20250813_163137-scaled.jpg
ORGANIZER;CN="Offene Werkstatt":MAILTO:werkstatt@insel-ev.de
END:VEVENT
BEGIN:VEVENT
DTSTART;TZID=Europe/Berlin:20251215T133000
DTEND;TZID=Europe/Berlin:20251215T160000
DTSTAMP:20260424T161302
CREATED:20241030T154814Z
LAST-MODIFIED:20260401T143404Z
UID:10000825-1765805400-1765814400@werkstatt.insel-ev.de
SUMMARY:Kurs: Vögel gegen die Einsamkeit - Messenger Birds und ihre Geschichte
DESCRIPTION:Arsenii und seine Frau Anna haben die schöne Idee Menschen\, die einsam sind\, miteinander zu verbinden. Arsenii ist ein russischer Künstler\, der aus Angst vor Verfolgung aus Russland geflohen und über viele Wege nach Hamburg gekommen ist. Aus eigener Erfahrung mit Einsamkeit und dem Wunsch „Hallo“ zur Stadt zu sagen\, hat er angefangen kleine Vögel zu nähen und diese an Menschen zu verschenken. \nDie Vögel liegen an öffentlichen Orten\, mit einer Notiz: „Fühlst du dich manchmal einsam oder isoliert? Nimm dir einen Vogel!“ Jeder Vogel kommt mit einem Brief an die Person\, die ihn findet. Deshalb nennen sie das Projekt Messenger Birds. Jedes Wesen hat einen Namen und eine Geschichte\, die auf Instagram geteilt wird. \nAuf diese Weise verbinden sich die Menschen und es wird eine kleine Alternative zur Einsamkeit sichtbar. \nIn diesem Kurs zeigt Arsenii wie die kleinen Vögel genäht werden.\nDu kannst einen Vogel für dich oder jemanden\, der einsam ist\, anfertigen.\nEs sind keine besonderen Nähkenntnisse erforderlich\, alle sind willkommen.\nDie Teilnehmer_innen-Zahl ist auf sechs Personen begrenzt.\nWir sehen uns im Nest! \nFür den Kurs gibt es Kaffee\, Tee und Wasser. \nAnmeldung bitte an werkstatt@insel-ev.de oder telefonisch: 040 380 38 36 – 244.
URL:https://werkstatt.insel-ev.de/event/kurs-voegel-gegen-die-einsamkeit-messenger-birds-und-ihre-geschichte/2025-12-15
LOCATION:Offener Werkstatt-Treff\, Elbgaustraße 244\, Lurup\, Hamburg\, 22547\, Deutschland
CATEGORIES:Einführung
ATTACH;FMTTYPE=image/jpeg:https://werkstatt.insel-ev.de/wp-content/uploads/2024/10/Foto-Vogel-scaled.jpg
ORGANIZER;CN="Offene Werkstatt":MAILTO:werkstatt@insel-ev.de
END:VEVENT
BEGIN:VEVENT
DTSTART;TZID=Europe/Berlin:20251220T110000
DTEND;TZID=Europe/Berlin:20251220T140000
DTSTAMP:20260424T161302
CREATED:20250408T131741Z
LAST-MODIFIED:20250715T084202Z
UID:10000844-1766228400-1766239200@werkstatt.insel-ev.de
SUMMARY:3D-Druck für Fortgeschrittene - Techniken\, Tricks und mehr
DESCRIPTION:Du hast erste Erfahrungen mit dem 3D-Druck gesammelt und möchtest jetzt tiefer einsteigen?\nIn diesem Workshop gehen wir einen Schritt weiter: Wir besprechen fortgeschrittene Techniken\, lernen spezielle Slicing-Einstellungen kennen und üben gemeinsam\, typische Druckprobleme zu erkennen und zu beheben. \nAußerdem gibt es jede Menge Tipps und Tricks rund um das Thema 3D-Druck\, damit deine Projekte in Zukunft noch besser gelingen. \nDer Fokus liegt auf dem praktischen Arbeiten: Wir probieren verschiedene Einstellungen direkt am Drucker aus und testen\, was sich in der Praxis wirklich bewährt. \nBitte bring einen Laptop und eine Maus mit.\nWenn du keinen eigenen Laptop hast\, sag uns bitte kurz Bescheid. \nVoraussetzung für die Teilnahme sind grundlegende Kenntnisse im 3D-Druck und im Umgang mit einem Slicer. \nFür Kaffee\, Tee und Wasser ist in unserer Werkstatt gesorgt. \nDer Workshop ist wie immer kostenfrei. 🙂 \nWir freuen uns auf euch und eure Fragen und Projekte! \nAnmeldung: Bitte schreib eine kurze Mail an werkstatt@insel-ev.de
URL:https://werkstatt.insel-ev.de/event/3d-druck-fuer-fortgeschrittene-techniken-tricks-und-mehr/2025-12-20
LOCATION:Offener Werkstatt-Treff\, Elbgaustraße 244\, Lurup\, Hamburg\, 22547\, Deutschland
CATEGORIES:Einführung
ATTACH;FMTTYPE=image/jpeg:https://werkstatt.insel-ev.de/wp-content/uploads/2022/08/IMG_20220125_212731-scaled.jpg
ORGANIZER;CN="Offene Werkstatt":MAILTO:werkstatt@insel-ev.de
END:VEVENT
END:VCALENDAR