BEGIN:VCALENDAR
VERSION:2.0
PRODID:-//Offene Werkstatt - ECPv6.15.20//NONSGML v1.0//EN
CALSCALE:GREGORIAN
METHOD:PUBLISH
X-WR-CALNAME:Offene Werkstatt
X-ORIGINAL-URL:https://werkstatt.insel-ev.de
X-WR-CALDESC:Veranstaltungen für Offene Werkstatt
REFRESH-INTERVAL;VALUE=DURATION:PT1H
X-Robots-Tag:noindex
X-PUBLISHED-TTL:PT1H
BEGIN:VTIMEZONE
TZID:Europe/Berlin
BEGIN:DAYLIGHT
TZOFFSETFROM:+0100
TZOFFSETTO:+0200
TZNAME:CEST
DTSTART:20250330T010000
END:DAYLIGHT
BEGIN:STANDARD
TZOFFSETFROM:+0200
TZOFFSETTO:+0100
TZNAME:CET
DTSTART:20251026T010000
END:STANDARD
BEGIN:DAYLIGHT
TZOFFSETFROM:+0100
TZOFFSETTO:+0200
TZNAME:CEST
DTSTART:20260329T010000
END:DAYLIGHT
BEGIN:STANDARD
TZOFFSETFROM:+0200
TZOFFSETTO:+0100
TZNAME:CET
DTSTART:20261025T010000
END:STANDARD
BEGIN:DAYLIGHT
TZOFFSETFROM:+0100
TZOFFSETTO:+0200
TZNAME:CEST
DTSTART:20270328T010000
END:DAYLIGHT
BEGIN:STANDARD
TZOFFSETFROM:+0200
TZOFFSETTO:+0100
TZNAME:CET
DTSTART:20271031T010000
END:STANDARD
END:VTIMEZONE
BEGIN:VEVENT
DTSTART;TZID=Europe/Berlin:20260106T170000
DTEND;TZID=Europe/Berlin:20260106T190000
DTSTAMP:20260424T143224
CREATED:20250820T102708Z
LAST-MODIFIED:20260302T095303Z
UID:10000956-1767718800-1767726000@werkstatt.insel-ev.de
SUMMARY:Textiles Repair-Cafe
DESCRIPTION:Deine Lieblingshose hat ein Loch\, die Ärmel der neuen Bluse sind zu lang oder du willst aus einem alten Shirt etwas ganz Neues machen? Du würdest gern loslegen\, weißt aber nicht so recht\, wie? \nDann bist du bei uns genau richtig. Wir bieten dir Unterstützung bei deinen Ideen und helfen bei der Umsetzung\, damit dein Lieblingsstück nicht weggeschmissen werden muss und Gebrauchtes ein zweites Leben bekommt. \nIn der Werkstatt stehen dir Nähmaschinen\, Garn\, Knöpfe\, Stoffe und viele weitere Materialien zur Verfügung – und natürlich helfende Hände. \nAlso ran an den Kleiderschrank und kommt her\, wir freuen uns auf euch. \nWann: Jeden ersten und letzten Dienstag im Monat von 17:00- 19:00 Uhr
URL:https://werkstatt.insel-ev.de/event/textiles-repair-cafe/2026-01-06
LOCATION:Offener Werkstatt-Treff\, Elbgaustraße 244\, Lurup\, Hamburg\, 22547\, Deutschland
CATEGORIES:Gruppe
ATTACH;FMTTYPE=image/jpeg:https://werkstatt.insel-ev.de/wp-content/uploads/2025/08/IMG_20250813_163137-scaled.jpg
ORGANIZER;CN="Offene Werkstatt":MAILTO:werkstatt@insel-ev.de
END:VEVENT
BEGIN:VEVENT
DTSTART;TZID=Europe/Berlin:20260107T140000
DTEND;TZID=Europe/Berlin:20260107T160000
DTSTAMP:20260424T143224
CREATED:20240604T161359Z
LAST-MODIFIED:20260107T160408Z
UID:10001516-1767794400-1767801600@werkstatt.insel-ev.de
SUMMARY:Kurs: Kerzen gießen
DESCRIPTION:Aus gereinigten Wachs- und Kerzenresten kann an diesem Tag die neue Lieblingskerze entstehen. Wir haben viele verschiedene Wachsfarben und Kerzenformen vorrätig\, so dass Du bestimmt Deinen Favoriten findest. \nWir zeigen Dir den Prozess und geben bei Bedarf Unterstützung\, damit du loslegen kannst. Vielleicht hast Du auch eine Kerzenform Zuhause\, die neu gefüllt werden soll oder ein schönes Glas\, das ein neues Leben als Kerze verdient. Alle Ideen sind willkommen. \nWir freuen uns auf euch. \n  \nKaffee\, Tee und Wasser halten wir in der Werkstatt für euch bereit. \nAnmeldung: Schreib eine Mail an werkstatt@insel-ev.de oder sag uns telefonisch Bescheid.
URL:https://werkstatt.insel-ev.de/event/kerzen/2026-01-07
LOCATION:Offener Werkstatt-Treff\, Elbgaustraße 244\, Lurup\, Hamburg\, 22547\, Deutschland
CATEGORIES:Einführung,Schnupperkurs
ATTACH;FMTTYPE=image/jpeg:https://werkstatt.insel-ev.de/wp-content/uploads/2024/06/IMG_20240604_153359-scaled.jpg
ORGANIZER;CN="Offene Werkstatt":MAILTO:werkstatt@insel-ev.de
END:VEVENT
BEGIN:VEVENT
DTSTART;TZID=Europe/Berlin:20260113T170000
DTEND;TZID=Europe/Berlin:20260113T190000
DTSTAMP:20260424T143224
CREATED:20251217T124651Z
LAST-MODIFIED:20260309T160159Z
UID:10001547-1768323600-1768330800@werkstatt.insel-ev.de
SUMMARY:Elektro-Selbsthilfe / Repair-Café
DESCRIPTION:Wenn der Wasserkocher nicht mehr will\, der Akkuschrauber komische Geräusche macht und der Fön\nnur noch kalte Luft bläst: \nDann gib ihnen die Chance auf ein zweites Leben und komm zu uns zur Elektro-Selbsthilfe. \nWir bieten dir die Möglichkeit\, dein kaputtes Gerät unter Anleitung selber zu reparieren. \nWenn ihr Gebrauchsgegenstände der persönlichen Hygiene mitbringt\, wie zum Beispiel einen Rasierer\, dann kommt bitte mit gereinigten Geräten. \nVon der Reparatur ausgeschlossen sind: Handys\, HiFi-Geräte\, Kaffeevollautomaten und PC sowie deren Zubehör. \nEine Anmeldung für dieses Angebot ist unbedingt erforderlich. \nKaffee\, Tee und Wasser halten wir in der Werkstatt für euch bereit. \nWir freuen uns auf euch. \nAnmeldung: Bitte sag uns telefonisch Bescheid oder\nschreib eine Mail an werkstatt@insel-ev.de
URL:https://werkstatt.insel-ev.de/event/elektro-selbsthilfe-repair-cafe/2026-01-13
LOCATION:Offener Werkstatt-Treff\, Elbgaustraße 244\, Lurup\, Hamburg\, 22547\, Deutschland
ATTACH;FMTTYPE=image/jpeg:https://werkstatt.insel-ev.de/wp-content/uploads/2025/12/signal-2025-12-17-12-01-01-308.jpg
ORGANIZER;CN="Offene Werkstatt":MAILTO:werkstatt@insel-ev.de
END:VEVENT
BEGIN:VEVENT
DTSTART;TZID=Europe/Berlin:20260114T140000
DTEND;TZID=Europe/Berlin:20260114T160000
DTSTAMP:20260424T143224
CREATED:20251205T154909Z
LAST-MODIFIED:20260309T161832Z
UID:10001518-1768399200-1768406400@werkstatt.insel-ev.de
SUMMARY:Löten lernen und eine Solarlampe bauen
DESCRIPTION:Du wolltest immer schon mal löten lernen?\nUnter fachkundiger Leitung baut jede_r Teilnehmende ein Solarlicht\, das am Ende mit nach Hause genommen werden kann.\nIn einer kleinen Gruppe kannst du erste Erfahrungen beim Löten sammeln und eine\nPlatine mit elektrischen Bauteilen bestücken.\nEs sind keine Vorkenntnisse erforderlich. \nMaterial und Werkzeug haben wir für euch in der Werkstatt und\nauch Kaffee\, Tee und Wasser halten wir in der Werkstatt bereit. \nWir freuen uns auf euch. \nAnmeldung: Bitte sag uns telefonisch Bescheid oder\nschreib eine Mail an werkstatt@insel-ev.de
URL:https://werkstatt.insel-ev.de/event/loeten-lernen-und-eine-solarlampe-bauen/2026-01-14
LOCATION:Offene Werkstatt\, Elbgaustraße 244\, Hamburg\, Hamburg\, 22547\, Deutschland
CATEGORIES:Einführung
ATTACH;FMTTYPE=image/jpeg:https://werkstatt.insel-ev.de/wp-content/uploads/2025/08/loetkurs-scaled.jpg
ORGANIZER;CN="Offene Werkstatt":MAILTO:werkstatt@insel-ev.de
END:VEVENT
BEGIN:VEVENT
DTSTART;TZID=Europe/Berlin:20260120T170000
DTEND;TZID=Europe/Berlin:20260120T190000
DTSTAMP:20260424T143224
CREATED:20251217T124651Z
LAST-MODIFIED:20260309T160159Z
UID:10001548-1768928400-1768935600@werkstatt.insel-ev.de
SUMMARY:Elektro-Selbsthilfe / Repair-Café
DESCRIPTION:Wenn der Wasserkocher nicht mehr will\, der Akkuschrauber komische Geräusche macht und der Fön\nnur noch kalte Luft bläst: \nDann gib ihnen die Chance auf ein zweites Leben und komm zu uns zur Elektro-Selbsthilfe. \nWir bieten dir die Möglichkeit\, dein kaputtes Gerät unter Anleitung selber zu reparieren. \nWenn ihr Gebrauchsgegenstände der persönlichen Hygiene mitbringt\, wie zum Beispiel einen Rasierer\, dann kommt bitte mit gereinigten Geräten. \nVon der Reparatur ausgeschlossen sind: Handys\, HiFi-Geräte\, Kaffeevollautomaten und PC sowie deren Zubehör. \nEine Anmeldung für dieses Angebot ist unbedingt erforderlich. \nKaffee\, Tee und Wasser halten wir in der Werkstatt für euch bereit. \nWir freuen uns auf euch. \nAnmeldung: Bitte sag uns telefonisch Bescheid oder\nschreib eine Mail an werkstatt@insel-ev.de
URL:https://werkstatt.insel-ev.de/event/elektro-selbsthilfe-repair-cafe/2026-01-20
LOCATION:Offener Werkstatt-Treff\, Elbgaustraße 244\, Lurup\, Hamburg\, 22547\, Deutschland
ATTACH;FMTTYPE=image/jpeg:https://werkstatt.insel-ev.de/wp-content/uploads/2025/12/signal-2025-12-17-12-01-01-308.jpg
ORGANIZER;CN="Offene Werkstatt":MAILTO:werkstatt@insel-ev.de
END:VEVENT
BEGIN:VEVENT
DTSTART;TZID=Europe/Berlin:20260121T140000
DTEND;TZID=Europe/Berlin:20260121T160000
DTSTAMP:20260424T143224
CREATED:20251217T123645Z
LAST-MODIFIED:20260309T160956Z
UID:10001546-1769004000-1769011200@werkstatt.insel-ev.de
SUMMARY:Kurs: Origami für Anfänger - Einfach mal was zusammen falten
DESCRIPTION:Hast Du Lust\, die japanische Art des Papierfaltens kennen zu lernen? \nGemeinsam werden wir alte Papiere wie Seekarten und Notenblättern in\noriginelle Briefumschläge und kleine Geschenktüten verwandeln. \nAußer dem Spaß an der Sache übt es auch die Konzentration und Feinmotorik: Dann steht auch irgendwann dem Origami-Kranich nichts mehr im Wege. \n  \nKaffee\, Tee und Wasser halten wir in der Werkstatt für euch bereit. Wir freuen uns auf euch! 🙂 \nAnmeldung: Bitte sag uns telefonisch Bescheid oder\nschreib eine Mail an werkstatt@insel-ev.de
URL:https://werkstatt.insel-ev.de/event/kurs-origami-fuer-anfaenger-einfach-mal-was-zusammen-falten/2026-01-21
LOCATION:Offener Werkstatt-Treff\, Elbgaustraße 244\, Lurup\, Hamburg\, 22547\, Deutschland
CATEGORIES:Einführung
ATTACH;FMTTYPE=image/jpeg:https://werkstatt.insel-ev.de/wp-content/uploads/2025/12/signal-2025-12-17-12-12-13-371.jpg
ORGANIZER;CN="Offene Werkstatt":MAILTO:werkstatt@insel-ev.de
END:VEVENT
BEGIN:VEVENT
DTSTART;TZID=Europe/Berlin:20260122T170000
DTEND;TZID=Europe/Berlin:20260122T190000
DTSTAMP:20260424T143224
CREATED:20251219T112826Z
LAST-MODIFIED:20251219T112826Z
UID:10001555-1769101200-1769108400@werkstatt.insel-ev.de
SUMMARY:Textiler Upcycling-Workshop: Aus Alt mach Neu!
DESCRIPTION:Dein altes T-Shirt liegt nur noch im Schrank herum und Dein Handtuch hat seine besten Tage hinter sich? Dann gib ihnen ein zweites Leben!\nIn unserem Upcycling-Workshop lernst Du\, wie du aus ausrangierten Kleidungsstücken praktische neue Dinge zauberst. Unter Anleitung nähst du aus einem alten T-Shirt eine stylische Tasche oder verwandelst ein Handtuch in wiederverwendbare Abschminkpads – nachhaltig\, kreativ und ganz individuell. \nDieser Workshop wird von Karla\, Finja und Sina durchgeführt. Die drei Studentinnen sind im Seminar „Nachhaltigkeit und Aktivismus“ und setzt sich aktiv mit nachhaltigem Konsum und bewusster Entsorgung auseinander. \nMit dem Workshop möchten sie zeigen\, dass Nachhaltigkeit Spaß macht und jede_r etwas bewirken kann. \nEs wäre toll\, wenn Du mitbringst:\n– Ein altes T-Shirt und/oder ein altes Handtuch\n– Lust aufs Nähen und Ausprobieren \nWir wünschen uns von den Menschen\, denen es möglich ist\, eine kleine Materialkostenspende. Alle sind herzlich eingeladen zu geben was geht oder wie immer kostenlos teilzunehmen. \nWas dich erwartet:\n– Nähmaschinen und fachkundige Unterstützung\n– Garn\, Knöpfe und weitere Materialien\n– Eine entspannte Atmosphäre zum Kreativ sein \nLass uns gemeinsam ein Zeichen gegen Wegwerfkultur setzen – wir freuen uns auf Dich! \nKaffee\, Tee und Wasser halten wir in der Werkstatt für euch bereit. \nAnmeldung: Bitte schreibe eine Mail an werkstatt@insel-ev.de oder sag uns telefonisch Bescheid.
URL:https://werkstatt.insel-ev.de/event/textiler-upcycling-workshop-aus-alt-mach-neu
LOCATION:Offener Werkstatt-Treff\, Elbgaustraße 244\, Lurup\, Hamburg\, 22547\, Deutschland
ATTACH;FMTTYPE=image/png:https://werkstatt.insel-ev.de/wp-content/uploads/2025/12/2025-12-19-12_26_28-Ueberschrift-hinzufuegen_20251218_170129_0000.png.png
ORGANIZER;CN="Offene Werkstatt":MAILTO:werkstatt@insel-ev.de
END:VEVENT
BEGIN:VEVENT
DTSTART;TZID=Europe/Berlin:20260126T133000
DTEND;TZID=Europe/Berlin:20260126T160000
DTSTAMP:20260424T143224
CREATED:20241030T154814Z
LAST-MODIFIED:20260401T143404Z
UID:10001545-1769434200-1769443200@werkstatt.insel-ev.de
SUMMARY:Kurs: Vögel gegen die Einsamkeit - Messenger Birds und ihre Geschichte
DESCRIPTION:Arsenii und seine Frau Anna haben die schöne Idee Menschen\, die einsam sind\, miteinander zu verbinden. Arsenii ist ein russischer Künstler\, der aus Angst vor Verfolgung aus Russland geflohen und über viele Wege nach Hamburg gekommen ist. Aus eigener Erfahrung mit Einsamkeit und dem Wunsch „Hallo“ zur Stadt zu sagen\, hat er angefangen kleine Vögel zu nähen und diese an Menschen zu verschenken. \nDie Vögel liegen an öffentlichen Orten\, mit einer Notiz: „Fühlst du dich manchmal einsam oder isoliert? Nimm dir einen Vogel!“ Jeder Vogel kommt mit einem Brief an die Person\, die ihn findet. Deshalb nennen sie das Projekt Messenger Birds. Jedes Wesen hat einen Namen und eine Geschichte\, die auf Instagram geteilt wird. \nAuf diese Weise verbinden sich die Menschen und es wird eine kleine Alternative zur Einsamkeit sichtbar. \nIn diesem Kurs zeigt Arsenii wie die kleinen Vögel genäht werden.\nDu kannst einen Vogel für dich oder jemanden\, der einsam ist\, anfertigen.\nEs sind keine besonderen Nähkenntnisse erforderlich\, alle sind willkommen.\nDie Teilnehmer_innen-Zahl ist auf sechs Personen begrenzt.\nWir sehen uns im Nest! \nFür den Kurs gibt es Kaffee\, Tee und Wasser. \nAnmeldung bitte an werkstatt@insel-ev.de oder telefonisch: 040 380 38 36 – 244.
URL:https://werkstatt.insel-ev.de/event/kurs-voegel-gegen-die-einsamkeit-messenger-birds-und-ihre-geschichte/2026-01-26
LOCATION:Offener Werkstatt-Treff\, Elbgaustraße 244\, Lurup\, Hamburg\, 22547\, Deutschland
CATEGORIES:Einführung
ATTACH;FMTTYPE=image/jpeg:https://werkstatt.insel-ev.de/wp-content/uploads/2024/10/Foto-Vogel-scaled.jpg
ORGANIZER;CN="Offene Werkstatt":MAILTO:werkstatt@insel-ev.de
END:VEVENT
BEGIN:VEVENT
DTSTART;TZID=Europe/Berlin:20260127T170000
DTEND;TZID=Europe/Berlin:20260127T190000
DTSTAMP:20260424T143224
CREATED:20251205T160141Z
LAST-MODIFIED:20260309T155746Z
UID:10001074-1769533200-1769540400@werkstatt.insel-ev.de
SUMMARY:Textiles Repair-Cafe
DESCRIPTION:Deine Lieblingshose hat ein Loch\, die Ärmel der neuen Bluse sind zu lang oder du willst aus einem alten Shirt etwas ganz Neues machen? Du würdest gern loslegen\, weißt aber nicht so recht\, wie? \nDann bist du bei uns genau richtig. Wir bieten dir Unterstützung bei deinen Ideen und helfen bei der Umsetzung\, damit dein Lieblingsstück nicht weggeschmissen werden muss und Gebrauchtes ein zweites Leben bekommt. \nIn der Werkstatt stehen dir Nähmaschinen\, Garn\, Knöpfe\, Stoffe und viele weitere Materialien zur Verfügung – und natürlich helfende Hände. \nAlso ran an den Kleiderschrank und kommt her\, wir freuen uns auf euch. \nWann: Jeden ersten und letzten Dienstag im Monat von 17:00- 19:00 Uhr
URL:https://werkstatt.insel-ev.de/event/textiles-repair-cafe-2-2/2026-01-27
LOCATION:Offener Werkstatt-Treff\, Elbgaustraße 244\, Lurup\, Hamburg\, 22547\, Deutschland
CATEGORIES:Gruppe
ATTACH;FMTTYPE=image/jpeg:https://werkstatt.insel-ev.de/wp-content/uploads/2025/08/IMG_20250813_163137-scaled.jpg
ORGANIZER;CN="Offene Werkstatt":MAILTO:werkstatt@insel-ev.de
END:VEVENT
BEGIN:VEVENT
DTSTART;TZID=Europe/Berlin:20260128T140000
DTEND;TZID=Europe/Berlin:20260128T160000
DTSTAMP:20260424T143224
CREATED:20251205T155157Z
LAST-MODIFIED:20260309T161255Z
UID:10001140-1769608800-1769616000@werkstatt.insel-ev.de
SUMMARY:Seifenkurs
DESCRIPTION:Naturseifen bieten eine tolle Pflege und kommen ohne Umverpackung daher. In vielen Rezepten sind jedoch Palm- oder Kokosöle enthalten. Wir wollen in diesem Kurs eine Seife aus nachhaltigeren Zutaten sieden\, die wunderbar zur Haut und zur Umwelt ist. \nIhr lernt die Grundbegriffe des Seifesiedens und die wichtigsten Zutaten kennen. Zusammen stellen wir dann eine Seife her. \nNach ein paar Tagen könnt ihr eure Seifenstücke (je nach Form und Größe ca. 2-3 Stück) abholen. Das erste Mal benutzen könnt ihr die Seife nach 6-8 Wochen\, also noch genau richtig für die Weihnachtsgeschenke. \nDa wir mit Lauge arbeiten bitte alte Kleidung oder eine Schürze mitzubringen. \nWir wünschen uns von den Menschen\, denen es möglich ist\, eine Materialkostenpauschale von 6 Euro für die Öle und Zutaten. Alle anderen sind herzlich eingeladen zu geben was geht oder wie immer kostenlos teilzunehmen.  \nKaffee\, Tee und Wasser halten wir in der Werkstatt für euch bereit.\nWir freuen uns auf euch! \nAnmeldung: Bitte schreibe eine Mail an werkstatt@insel-ev.de oder sag uns telefonisch Bescheid.
URL:https://werkstatt.insel-ev.de/event/seifenkurs-2-2/2026-01-28
LOCATION:Offener Werkstatt-Treff\, Elbgaustraße 244\, Lurup\, Hamburg\, 22547\, Deutschland
CATEGORIES:Einführung
ATTACH;FMTTYPE=image/jpeg:https://werkstatt.insel-ev.de/wp-content/uploads/2024/07/Bild-SEife-scaled.jpg
ORGANIZER;CN="Offene Werkstatt":MAILTO:werkstatt@insel-ev.de
END:VEVENT
END:VCALENDAR