BEGIN:VCALENDAR
VERSION:2.0
PRODID:-//Offene Werkstatt - ECPv6.15.20//NONSGML v1.0//EN
CALSCALE:GREGORIAN
METHOD:PUBLISH
X-WR-CALNAME:Offene Werkstatt
X-ORIGINAL-URL:https://werkstatt.insel-ev.de
X-WR-CALDESC:Veranstaltungen für Offene Werkstatt
REFRESH-INTERVAL;VALUE=DURATION:PT1H
X-Robots-Tag:noindex
X-PUBLISHED-TTL:PT1H
BEGIN:VTIMEZONE
TZID:Europe/Berlin
BEGIN:DAYLIGHT
TZOFFSETFROM:+0100
TZOFFSETTO:+0200
TZNAME:CEST
DTSTART:20250330T010000
END:DAYLIGHT
BEGIN:STANDARD
TZOFFSETFROM:+0200
TZOFFSETTO:+0100
TZNAME:CET
DTSTART:20251026T010000
END:STANDARD
BEGIN:DAYLIGHT
TZOFFSETFROM:+0100
TZOFFSETTO:+0200
TZNAME:CEST
DTSTART:20260329T010000
END:DAYLIGHT
BEGIN:STANDARD
TZOFFSETFROM:+0200
TZOFFSETTO:+0100
TZNAME:CET
DTSTART:20261025T010000
END:STANDARD
BEGIN:DAYLIGHT
TZOFFSETFROM:+0100
TZOFFSETTO:+0200
TZNAME:CEST
DTSTART:20270328T010000
END:DAYLIGHT
BEGIN:STANDARD
TZOFFSETFROM:+0200
TZOFFSETTO:+0100
TZNAME:CET
DTSTART:20271031T010000
END:STANDARD
END:VTIMEZONE
BEGIN:VEVENT
DTSTART;TZID=Europe/Berlin:20260203T170000
DTEND;TZID=Europe/Berlin:20260203T190000
DTSTAMP:20260424T124050
CREATED:20250820T102708Z
LAST-MODIFIED:20260302T095303Z
UID:10000957-1770138000-1770145200@werkstatt.insel-ev.de
SUMMARY:Textiles Repair-Cafe
DESCRIPTION:Deine Lieblingshose hat ein Loch\, die Ärmel der neuen Bluse sind zu lang oder du willst aus einem alten Shirt etwas ganz Neues machen? Du würdest gern loslegen\, weißt aber nicht so recht\, wie? \nDann bist du bei uns genau richtig. Wir bieten dir Unterstützung bei deinen Ideen und helfen bei der Umsetzung\, damit dein Lieblingsstück nicht weggeschmissen werden muss und Gebrauchtes ein zweites Leben bekommt. \nIn der Werkstatt stehen dir Nähmaschinen\, Garn\, Knöpfe\, Stoffe und viele weitere Materialien zur Verfügung – und natürlich helfende Hände. \nAlso ran an den Kleiderschrank und kommt her\, wir freuen uns auf euch. \nWann: Jeden ersten und letzten Dienstag im Monat von 17:00- 19:00 Uhr
URL:https://werkstatt.insel-ev.de/event/textiles-repair-cafe/2026-02-03
LOCATION:Offener Werkstatt-Treff\, Elbgaustraße 244\, Lurup\, Hamburg\, 22547\, Deutschland
CATEGORIES:Gruppe
ATTACH;FMTTYPE=image/jpeg:https://werkstatt.insel-ev.de/wp-content/uploads/2025/08/IMG_20250813_163137-scaled.jpg
ORGANIZER;CN="Offene Werkstatt":MAILTO:werkstatt@insel-ev.de
END:VEVENT
BEGIN:VEVENT
DTSTART;TZID=Europe/Berlin:20260204T140000
DTEND;TZID=Europe/Berlin:20260204T160000
DTSTAMP:20260424T124050
CREATED:20260120T154249Z
LAST-MODIFIED:20260120T154249Z
UID:10001562-1770213600-1770220800@werkstatt.insel-ev.de
SUMMARY:Kurs: Futterstation für Vögel bauen
DESCRIPTION:Bei Dir piepst es? Na dann… \n  \nbau Deine eigene Vogelfutterstelle und schenke altem Holz\, Glas und recyceltem Kunststoff ein zweites Leben! \nDamit Du Spaß hast und die Vögel in Deiner Umgebung sorgenfrei & wohlgenährt leben können\, bauen wir unter Anleitung Futterstationen\, von der ihr am Ende eine mit nach Hause nehmen könnt.\nIhr braucht keine Vorkenntnisse\, nur Freude und Interesse am Handwerken. Dann klappts auch mit dem Sägen\, Bohren und Schrauben 😎 \n  \nWenn Du 1-2 Marmeladengläser mit Deckel (Durchmesser max. 85mm) mitbringen kannst\, freuen wir uns. \n  \nWir wünschen uns von den Menschen\, denen es möglich ist\, eine Materialkostenpauschale von 2 Euro für das Futter. Alle anderen sind herzlich eingeladen zu geben was geht oder wie immer kostenlos teilzunehmen.  \nKaffee\, Tee und Wasser halten wir in der Werkstatt für euch bereit. \nWir freuen uns auf euch. \n  \nAnmeldung: Bitte sag uns telefonisch Bescheid oder \nschreib eine Mail an werkstatt@insel-ev.de
URL:https://werkstatt.insel-ev.de/event/kurs-futterstation-fuer-voegel-bauen
LOCATION:Offener Werkstatt-Treff\, Elbgaustraße 244\, Lurup\, Hamburg\, 22547\, Deutschland
CATEGORIES:Einführung
ATTACH;FMTTYPE=image/jpeg:https://werkstatt.insel-ev.de/wp-content/uploads/2026/01/vogel-futterstation.jpg
END:VEVENT
BEGIN:VEVENT
DTSTART;TZID=Europe/Berlin:20260210T170000
DTEND;TZID=Europe/Berlin:20260210T190000
DTSTAMP:20260424T124050
CREATED:20251217T124651Z
LAST-MODIFIED:20260309T160159Z
UID:10001549-1770742800-1770750000@werkstatt.insel-ev.de
SUMMARY:Elektro-Selbsthilfe / Repair-Café
DESCRIPTION:Wenn der Wasserkocher nicht mehr will\, der Akkuschrauber komische Geräusche macht und der Fön\nnur noch kalte Luft bläst: \nDann gib ihnen die Chance auf ein zweites Leben und komm zu uns zur Elektro-Selbsthilfe. \nWir bieten dir die Möglichkeit\, dein kaputtes Gerät unter Anleitung selber zu reparieren. \nWenn ihr Gebrauchsgegenstände der persönlichen Hygiene mitbringt\, wie zum Beispiel einen Rasierer\, dann kommt bitte mit gereinigten Geräten. \nVon der Reparatur ausgeschlossen sind: Handys\, HiFi-Geräte\, Kaffeevollautomaten und PC sowie deren Zubehör. \nEine Anmeldung für dieses Angebot ist unbedingt erforderlich. \nKaffee\, Tee und Wasser halten wir in der Werkstatt für euch bereit. \nWir freuen uns auf euch. \nAnmeldung: Bitte sag uns telefonisch Bescheid oder\nschreib eine Mail an werkstatt@insel-ev.de
URL:https://werkstatt.insel-ev.de/event/elektro-selbsthilfe-repair-cafe/2026-02-10
LOCATION:Offener Werkstatt-Treff\, Elbgaustraße 244\, Lurup\, Hamburg\, 22547\, Deutschland
ATTACH;FMTTYPE=image/jpeg:https://werkstatt.insel-ev.de/wp-content/uploads/2025/12/signal-2025-12-17-12-01-01-308.jpg
ORGANIZER;CN="Offene Werkstatt":MAILTO:werkstatt@insel-ev.de
END:VEVENT
BEGIN:VEVENT
DTSTART;TZID=Europe/Berlin:20260211T140000
DTEND;TZID=Europe/Berlin:20260211T160000
DTSTAMP:20260424T124050
CREATED:20240423T081130Z
LAST-MODIFIED:20260309T160752Z
UID:10001558-1770818400-1770825600@werkstatt.insel-ev.de
SUMMARY:Siebdruck-Workshop
DESCRIPTION:In diesem Workshop lernen wir gemeinsam die Welt des Siebdrucks kennen und machen die ersten praktischen Schritte – von der Belichtung eines Siebes bis hin zum Druck deines eigenen Motivs auf Stoff. Dafür brauchst du ein selbstgewähltes Design\, das du bitte auf zwei festen transparenten Folien in tiefem Schwarz (keine Graustufen) und in klaren\, gut erkennbaren Linien mitbringst. Dies geht mit einem Tintenstrahldrucker oder in einem CopyShop. Das Motiv sollte nicht größer als DIN A5 sein. \nDer Siebdruck kann dann auf nahezu jeden Stoff mit glatter Oberfläche gedruckt werden – zum Beispiel auf T-Shirts\, Stofftaschen\, Tischdecken oder Kissenbezüge. Bringe also gerne etwas mit\, das du individuell gestalten möchtest. Nach dem Druck muss das Werk gut durchtrocknen – dein fertiges Stück kannst du dann am nächsten Tag abholen. \nEin Teil des Workshops findet in einer kleinen Dunkelkammer mit Rotlicht statt\, daher arbeiten wir zeitweise auf engem Raum. \nWir freuen uns auf einen gemeinsamen Nachmittag mit euch – und auf tolle Siebdruck-Ergebnisse! \n  \nKaffee\, Tee und Wasser halten wir in der Werkstatt für euch bereit. Bzgl. Barrierefreiheit meldet euch bitte bei uns.\n \nAnmeldung: Bitte schreibe eine Mail an werkstatt@insel-ev.de oder sag telefonisch Bescheid. \nWenn wir weniger als 4 Teilnehmende haben\, muss der Kurs leider ausfallen. Daher bitten wir dich\, rechtzeitig abzusagen\, falls doch etwas dazwischen kommt. Danke! 🙂 \n  \nBitte vor dem Kurs telefonisch die Motivwahl und die Stoffauswahl mit uns abklären. \nWir freuen uns auf Euch! \n  \n  \n 
URL:https://werkstatt.insel-ev.de/event/siebdruck-workshop/2026-02-11
LOCATION:Offener Werkstatt-Treff\, Elbgaustraße 244\, Lurup\, Hamburg\, 22547\, Deutschland
CATEGORIES:Workshop
ATTACH;FMTTYPE=image/jpeg:https://werkstatt.insel-ev.de/wp-content/uploads/2024/04/Foto-Siebdruck-scaled.jpg
ORGANIZER;CN="Offene Werkstatt":MAILTO:werkstatt@insel-ev.de
END:VEVENT
BEGIN:VEVENT
DTSTART;TZID=Europe/Berlin:20260217T170000
DTEND;TZID=Europe/Berlin:20260217T190000
DTSTAMP:20260424T124050
CREATED:20251217T124651Z
LAST-MODIFIED:20260309T160159Z
UID:10001550-1771347600-1771354800@werkstatt.insel-ev.de
SUMMARY:Elektro-Selbsthilfe / Repair-Café
DESCRIPTION:Wenn der Wasserkocher nicht mehr will\, der Akkuschrauber komische Geräusche macht und der Fön\nnur noch kalte Luft bläst: \nDann gib ihnen die Chance auf ein zweites Leben und komm zu uns zur Elektro-Selbsthilfe. \nWir bieten dir die Möglichkeit\, dein kaputtes Gerät unter Anleitung selber zu reparieren. \nWenn ihr Gebrauchsgegenstände der persönlichen Hygiene mitbringt\, wie zum Beispiel einen Rasierer\, dann kommt bitte mit gereinigten Geräten. \nVon der Reparatur ausgeschlossen sind: Handys\, HiFi-Geräte\, Kaffeevollautomaten und PC sowie deren Zubehör. \nEine Anmeldung für dieses Angebot ist unbedingt erforderlich. \nKaffee\, Tee und Wasser halten wir in der Werkstatt für euch bereit. \nWir freuen uns auf euch. \nAnmeldung: Bitte sag uns telefonisch Bescheid oder\nschreib eine Mail an werkstatt@insel-ev.de
URL:https://werkstatt.insel-ev.de/event/elektro-selbsthilfe-repair-cafe/2026-02-17
LOCATION:Offener Werkstatt-Treff\, Elbgaustraße 244\, Lurup\, Hamburg\, 22547\, Deutschland
ATTACH;FMTTYPE=image/jpeg:https://werkstatt.insel-ev.de/wp-content/uploads/2025/12/signal-2025-12-17-12-01-01-308.jpg
ORGANIZER;CN="Offene Werkstatt":MAILTO:werkstatt@insel-ev.de
END:VEVENT
BEGIN:VEVENT
DTSTART;TZID=Europe/Berlin:20260218T140000
DTEND;TZID=Europe/Berlin:20260218T160000
DTSTAMP:20260424T124050
CREATED:20250826T152753Z
LAST-MODIFIED:20260309T161125Z
UID:10001135-1771423200-1771430400@werkstatt.insel-ev.de
SUMMARY:Einführung ins Plastik-Recycling
DESCRIPTION:Wir ertrinken im Plastikmüll\, aber hier in der Werkstatt haben wir eine Lösung und machen aus\ngebrauchtem Plastik etwas komplett Neues.\nHabt ihr Lust diesen Recyclingprozess kennenzulernen?\nIhr werdet vom Anfang bis Ende die unterschiedlichen Schritte erleben und\nmit Unterstützung die Maschinen dafür kennenlernen.\nEs wird sortiert\, geschreddert\, gepresst und extrudiert.\nIhr lernt welches Plastik wir hier in der Werkstatt verarbeiten können \nKaffee\, Tee und Wasser halten wir in der Werkstatt für euch bereit. \nWir freuen uns auf euch. \nAnmeldung: Bitte sag uns telefonisch Bescheid oder\nschreib eine Mail an werkstatt@insel-ev.de
URL:https://werkstatt.insel-ev.de/event/einfuehrung-ins-plastik-recycling/2026-02-18
LOCATION:Offener Werkstatt-Treff\, Elbgaustraße 244\, Lurup\, Hamburg\, 22547\, Deutschland
CATEGORIES:Einführung
ATTACH;FMTTYPE=image/jpeg:https://werkstatt.insel-ev.de/wp-content/uploads/2025/08/Plastikstrasse-scaled.jpg
ORGANIZER;CN="Offene Werkstatt":MAILTO:werkstatt@insel-ev.de
END:VEVENT
BEGIN:VEVENT
DTSTART;TZID=Europe/Berlin:20260224T170000
DTEND;TZID=Europe/Berlin:20260224T190000
DTSTAMP:20260424T124050
CREATED:20251205T160141Z
LAST-MODIFIED:20260309T155746Z
UID:10001076-1771952400-1771959600@werkstatt.insel-ev.de
SUMMARY:Textiles Repair-Cafe
DESCRIPTION:Deine Lieblingshose hat ein Loch\, die Ärmel der neuen Bluse sind zu lang oder du willst aus einem alten Shirt etwas ganz Neues machen? Du würdest gern loslegen\, weißt aber nicht so recht\, wie? \nDann bist du bei uns genau richtig. Wir bieten dir Unterstützung bei deinen Ideen und helfen bei der Umsetzung\, damit dein Lieblingsstück nicht weggeschmissen werden muss und Gebrauchtes ein zweites Leben bekommt. \nIn der Werkstatt stehen dir Nähmaschinen\, Garn\, Knöpfe\, Stoffe und viele weitere Materialien zur Verfügung – und natürlich helfende Hände. \nAlso ran an den Kleiderschrank und kommt her\, wir freuen uns auf euch. \nWann: Jeden ersten und letzten Dienstag im Monat von 17:00- 19:00 Uhr
URL:https://werkstatt.insel-ev.de/event/textiles-repair-cafe-2-2/2026-02-24
LOCATION:Offener Werkstatt-Treff\, Elbgaustraße 244\, Lurup\, Hamburg\, 22547\, Deutschland
CATEGORIES:Gruppe
ATTACH;FMTTYPE=image/jpeg:https://werkstatt.insel-ev.de/wp-content/uploads/2025/08/IMG_20250813_163137-scaled.jpg
ORGANIZER;CN="Offene Werkstatt":MAILTO:werkstatt@insel-ev.de
END:VEVENT
BEGIN:VEVENT
DTSTART;TZID=Europe/Berlin:20260226T140000
DTEND;TZID=Europe/Berlin:20260226T160000
DTSTAMP:20260424T124050
CREATED:20240710T114719Z
LAST-MODIFIED:20260309T160601Z
UID:10001556-1772114400-1772121600@werkstatt.insel-ev.de
SUMMARY:Strickkurs und Stricken in Gesellschaft
DESCRIPTION:Hast Du Lust stricken zu lernen? Oder magst Du gern in Gesellschaft an\ndeinem Strickprojekt weiterarbeiten? Dann ist dieser Kurs genau richtig.\nAls Anfänger_in bekommst Du die ersten Schritte des Strickens vermittelt. \nEine erfahrene Strickerin zeigt uns\, wie Maschen aufgenommen werden und erste Maschen gestrickt werden\, linke und rechte. Falls gewünscht\, zeigt sie auch schon erste einfache Muster mit diesen beiden Maschenarten. \nDu bist auch herzlich eingeladen in netter Runde an deinem Projekt weiter zu stricken. \nWolle zum Ausprobieren haben wir in der Werkstatt\,\nNadeln für die ersten Maschen können wir ausleihen. \nKaffee/Tee und eine Führung durch die Werkstatt sind inklusiv. So wie wir 😎 \nAnmeldung: Bitte sag uns telefonisch Bescheid oder\nschreib eine Mail an werkstatt@insel-ev.de
URL:https://werkstatt.insel-ev.de/event/strickkurs-fuer-ganz-neu-anfangende-im-maschengewerbe/2026-02-26
LOCATION:Offener Werkstatt-Treff\, Elbgaustraße 244\, Lurup\, Hamburg\, 22547\, Deutschland
CATEGORIES:Einführung
ATTACH;FMTTYPE=image/jpeg:https://werkstatt.insel-ev.de/wp-content/uploads/2024/07/Strickbild-scaled-e1720626731233.jpg
ORGANIZER;CN="Offene Werkstatt":MAILTO:werkstatt@insel-ev.de
END:VEVENT
END:VCALENDAR