BEGIN:VCALENDAR
VERSION:2.0
PRODID:-//Offene Werkstatt - ECPv6.15.20//NONSGML v1.0//EN
CALSCALE:GREGORIAN
METHOD:PUBLISH
X-ORIGINAL-URL:https://werkstatt.insel-ev.de
X-WR-CALDESC:Veranstaltungen für Offene Werkstatt
REFRESH-INTERVAL;VALUE=DURATION:PT1H
X-Robots-Tag:noindex
X-PUBLISHED-TTL:PT1H
BEGIN:VTIMEZONE
TZID:Europe/Berlin
BEGIN:DAYLIGHT
TZOFFSETFROM:+0100
TZOFFSETTO:+0200
TZNAME:CEST
DTSTART:20250330T010000
END:DAYLIGHT
BEGIN:STANDARD
TZOFFSETFROM:+0200
TZOFFSETTO:+0100
TZNAME:CET
DTSTART:20251026T010000
END:STANDARD
BEGIN:DAYLIGHT
TZOFFSETFROM:+0100
TZOFFSETTO:+0200
TZNAME:CEST
DTSTART:20260329T010000
END:DAYLIGHT
BEGIN:STANDARD
TZOFFSETFROM:+0200
TZOFFSETTO:+0100
TZNAME:CET
DTSTART:20261025T010000
END:STANDARD
BEGIN:DAYLIGHT
TZOFFSETFROM:+0100
TZOFFSETTO:+0200
TZNAME:CEST
DTSTART:20270328T010000
END:DAYLIGHT
BEGIN:STANDARD
TZOFFSETFROM:+0200
TZOFFSETTO:+0100
TZNAME:CET
DTSTART:20271031T010000
END:STANDARD
END:VTIMEZONE
BEGIN:VEVENT
DTSTART;TZID=Europe/Berlin:20260505T170000
DTEND;TZID=Europe/Berlin:20260505T190000
DTSTAMP:20260420T151145
CREATED:20250820T102708Z
LAST-MODIFIED:20260302T095303Z
UID:10000960-1778000400-1778007600@werkstatt.insel-ev.de
SUMMARY:Textiles Repair-Cafe
DESCRIPTION:Deine Lieblingshose hat ein Loch\, die Ärmel der neuen Bluse sind zu lang oder du willst aus einem alten Shirt etwas ganz Neues machen? Du würdest gern loslegen\, weißt aber nicht so recht\, wie? \nDann bist du bei uns genau richtig. Wir bieten dir Unterstützung bei deinen Ideen und helfen bei der Umsetzung\, damit dein Lieblingsstück nicht weggeschmissen werden muss und Gebrauchtes ein zweites Leben bekommt. \nIn der Werkstatt stehen dir Nähmaschinen\, Garn\, Knöpfe\, Stoffe und viele weitere Materialien zur Verfügung – und natürlich helfende Hände. \nAlso ran an den Kleiderschrank und kommt her\, wir freuen uns auf euch. \nWann: Jeden ersten und letzten Dienstag im Monat von 17:00- 19:00 Uhr
URL:https://werkstatt.insel-ev.de/event/textiles-repair-cafe/2026-05-05
LOCATION:Offener Werkstatt-Treff\, Elbgaustraße 244\, Lurup\, Hamburg\, 22547\, Deutschland
CATEGORIES:Gruppe
ATTACH;FMTTYPE=image/jpeg:https://werkstatt.insel-ev.de/wp-content/uploads/2025/08/IMG_20250813_163137-scaled.jpg
ORGANIZER;CN="Offene Werkstatt":MAILTO:werkstatt@insel-ev.de
END:VEVENT
BEGIN:VEVENT
DTSTART;TZID=Europe/Berlin:20260506T140000
DTEND;TZID=Europe/Berlin:20260506T160000
DTSTAMP:20260420T151145
CREATED:20251217T123645Z
LAST-MODIFIED:20260309T160956Z
UID:10001767-1778076000-1778083200@werkstatt.insel-ev.de
SUMMARY:Kurs: Origami für Anfänger - Einfach mal was zusammen falten
DESCRIPTION:Hast Du Lust\, die japanische Art des Papierfaltens kennen zu lernen? \nGemeinsam werden wir alte Papiere wie Seekarten und Notenblättern in\noriginelle Briefumschläge und kleine Geschenktüten verwandeln. \nAußer dem Spaß an der Sache übt es auch die Konzentration und Feinmotorik: Dann steht auch irgendwann dem Origami-Kranich nichts mehr im Wege. \n  \nKaffee\, Tee und Wasser halten wir in der Werkstatt für euch bereit. Wir freuen uns auf euch! 🙂 \nAnmeldung: Bitte sag uns telefonisch Bescheid oder\nschreib eine Mail an werkstatt@insel-ev.de
URL:https://werkstatt.insel-ev.de/event/kurs-origami-fuer-anfaenger-einfach-mal-was-zusammen-falten/2026-05-06
LOCATION:Offener Werkstatt-Treff\, Elbgaustraße 244\, Lurup\, Hamburg\, 22547\, Deutschland
CATEGORIES:Einführung
ATTACH;FMTTYPE=image/jpeg:https://werkstatt.insel-ev.de/wp-content/uploads/2025/12/signal-2025-12-17-12-12-13-371.jpg
ORGANIZER;CN="Offene Werkstatt":MAILTO:werkstatt@insel-ev.de
END:VEVENT
BEGIN:VEVENT
DTSTART;TZID=Europe/Berlin:20260507T110000
DTEND;TZID=Europe/Berlin:20260507T160000
DTSTAMP:20260420T151145
CREATED:20260212T153737Z
LAST-MODIFIED:20260331T122619Z
UID:10001564-1778151600-1778169600@werkstatt.insel-ev.de
SUMMARY:“Eimer für alle” – unser lokales Kunststoff-Sammelsystem - Bau der Prototypen
DESCRIPTION:Der neuste Schrei! Machste mit? \n“Eimer für alle” – unser lokales Kunststoff-Sammelsystem  \n  \nWorkshop Nr. 3: Bau der Prototypen: 07.05.\, 11-16h\nAlle\, die Lust haben\, bauen gemeinsam die neuen Sammelbehälter. Nicht nur an diesem Termin\, sondern ab jetzt immer. Danach werden sie getestet. \n  \nDer Hintergrund: \nUm noch mehr Plastikabfälle für einen sozialen\, gemeinnützigen und nachhaltigen Produktkreislauf zu gewinnen – statt dass sie verbrannt werden – möchten wir die Sammlung vereinfachen. Und dabei zugleich noch mehr Menschen einladen\, sich für Kunststoffrecycling zu engagieren. \nZuerst haben wir zusammen Sammelbehälter aus Plastikmüll entwickelt. Nun werden sie gemeinsam gebaut. So wird ein lokales Kunststoff-Sammelsystem errichtet: aus dem gesammelten Plastik werden so lange weitere Sammelbehälter gebaut\, bis alle mit ihnen versorgt sind. „Alle“ meint z.B. Vereine\, Schulen\, soziale Einrichtungen\, Supermärkte oder auch Unternehmen in der Umgebung. Die Abholung erfolgt CO2-neutral mit einem E-Lastenrad. \n  \nDie nächsten Schritte & Termine: \nWorkshop Nr. 4: Kick-Off & Aufstellung der ersten „Eimer für alle“ Do. 20.05. (Uhrzeit kommt noch)\nWir treffen uns mit allen Interessierten und hängen die ersten drei Behälter in Lurup und Umgebung auf. \n  \nDanach geht es weiter… und wenn es klappt\, hört es erstmal nicht auf 😎 \n  \nQuelle Bild: vecteezy.com
URL:https://werkstatt.insel-ev.de/event/eimer-fuer-alle-unser-lokales-kunststoff-sammelsystem-bau-der-prototypen
LOCATION:Offener Werkstatt-Treff\, Elbgaustraße 244\, Lurup\, Hamburg\, 22547\, Deutschland
CATEGORIES:Plastikrecycling
ATTACH;FMTTYPE=image/png:https://werkstatt.insel-ev.de/wp-content/uploads/2026/01/vecteezy_overflowing-trash-can-on-transparent-background_48413110-scaled.png
ORGANIZER;CN="Offene Werkstatt":MAILTO:werkstatt@insel-ev.de
END:VEVENT
BEGIN:VEVENT
DTSTART;TZID=Europe/Berlin:20260512T170000
DTEND;TZID=Europe/Berlin:20260512T190000
DTSTAMP:20260420T151145
CREATED:20251217T124651Z
LAST-MODIFIED:20260309T160159Z
UID:10001581-1778605200-1778612400@werkstatt.insel-ev.de
SUMMARY:Elektro-Selbsthilfe / Repair-Café
DESCRIPTION:Wenn der Wasserkocher nicht mehr will\, der Akkuschrauber komische Geräusche macht und der Fön\nnur noch kalte Luft bläst: \nDann gib ihnen die Chance auf ein zweites Leben und komm zu uns zur Elektro-Selbsthilfe. \nWir bieten dir die Möglichkeit\, dein kaputtes Gerät unter Anleitung selber zu reparieren. \nWenn ihr Gebrauchsgegenstände der persönlichen Hygiene mitbringt\, wie zum Beispiel einen Rasierer\, dann kommt bitte mit gereinigten Geräten. \nVon der Reparatur ausgeschlossen sind: Handys\, HiFi-Geräte\, Kaffeevollautomaten und PC sowie deren Zubehör. \nEine Anmeldung für dieses Angebot ist unbedingt erforderlich. \nKaffee\, Tee und Wasser halten wir in der Werkstatt für euch bereit. \nWir freuen uns auf euch. \nAnmeldung: Bitte sag uns telefonisch Bescheid oder\nschreib eine Mail an werkstatt@insel-ev.de
URL:https://werkstatt.insel-ev.de/event/elektro-selbsthilfe-repair-cafe/2026-05-12
LOCATION:Offener Werkstatt-Treff\, Elbgaustraße 244\, Lurup\, Hamburg\, 22547\, Deutschland
ATTACH;FMTTYPE=image/jpeg:https://werkstatt.insel-ev.de/wp-content/uploads/2025/12/signal-2025-12-17-12-01-01-308.jpg
ORGANIZER;CN="Offene Werkstatt":MAILTO:werkstatt@insel-ev.de
END:VEVENT
BEGIN:VEVENT
DTSTART;TZID=Europe/Berlin:20260513T140000
DTEND;TZID=Europe/Berlin:20260513T160000
DTSTAMP:20260420T151145
CREATED:20250826T152753Z
LAST-MODIFIED:20260309T161125Z
UID:10001768-1778680800-1778688000@werkstatt.insel-ev.de
SUMMARY:Einführung ins Plastik-Recycling
DESCRIPTION:Wir ertrinken im Plastikmüll\, aber hier in der Werkstatt haben wir eine Lösung und machen aus\ngebrauchtem Plastik etwas komplett Neues.\nHabt ihr Lust diesen Recyclingprozess kennenzulernen?\nIhr werdet vom Anfang bis Ende die unterschiedlichen Schritte erleben und\nmit Unterstützung die Maschinen dafür kennenlernen.\nEs wird sortiert\, geschreddert\, gepresst und extrudiert.\nIhr lernt welches Plastik wir hier in der Werkstatt verarbeiten können \nKaffee\, Tee und Wasser halten wir in der Werkstatt für euch bereit. \nWir freuen uns auf euch. \nAnmeldung: Bitte sag uns telefonisch Bescheid oder\nschreib eine Mail an werkstatt@insel-ev.de
URL:https://werkstatt.insel-ev.de/event/einfuehrung-ins-plastik-recycling/2026-05-13
LOCATION:Offener Werkstatt-Treff\, Elbgaustraße 244\, Lurup\, Hamburg\, 22547\, Deutschland
CATEGORIES:Einführung
ATTACH;FMTTYPE=image/jpeg:https://werkstatt.insel-ev.de/wp-content/uploads/2025/08/Plastikstrasse-scaled.jpg
ORGANIZER;CN="Offene Werkstatt":MAILTO:werkstatt@insel-ev.de
END:VEVENT
BEGIN:VEVENT
DTSTART;TZID=Europe/Berlin:20260519T170000
DTEND;TZID=Europe/Berlin:20260519T190000
DTSTAMP:20260420T151145
CREATED:20260309T160338Z
LAST-MODIFIED:20260309T160338Z
UID:10001705-1779210000-1779217200@werkstatt.insel-ev.de
SUMMARY:Elektro-Selbsthilfe / Repair-Café
DESCRIPTION:Wenn der Wasserkocher nicht mehr will\, der Akkuschrauber komische Geräusche macht und der Fön\nnur noch kalte Luft bläst: \nDann gib ihnen die Chance auf ein zweites Leben und komm zu uns zur Elektro-Selbsthilfe. \nWir bieten dir die Möglichkeit\, dein kaputtes Gerät unter Anleitung selber zu reparieren. \nWenn ihr Gebrauchsgegenstände der persönlichen Hygiene mitbringt\, wie zum Beispiel einen Rasierer\, dann kommt bitte mit gereinigten Geräten. \nVon der Reparatur ausgeschlossen sind: Handys\, HiFi-Geräte\, Kaffeevollautomaten und PC sowie deren Zubehör. \nEine Anmeldung für dieses Angebot ist unbedingt erforderlich. \nKaffee\, Tee und Wasser halten wir in der Werkstatt für euch bereit. \nWir freuen uns auf euch. \nAnmeldung: Bitte sag uns telefonisch Bescheid oder\nschreib eine Mail an werkstatt@insel-ev.de
URL:https://werkstatt.insel-ev.de/event/elektro-selbsthilfe-repair-cafe-2/2026-05-19
LOCATION:Offener Werkstatt-Treff\, Elbgaustraße 244\, Lurup\, Hamburg\, 22547\, Deutschland
ATTACH;FMTTYPE=image/jpeg:https://werkstatt.insel-ev.de/wp-content/uploads/2025/12/signal-2025-12-17-12-01-01-308.jpg
ORGANIZER;CN="Offene Werkstatt":MAILTO:werkstatt@insel-ev.de
END:VEVENT
BEGIN:VEVENT
DTSTART;TZID=Europe/Berlin:20260520T140000
DTEND;TZID=Europe/Berlin:20260520T160000
DTSTAMP:20260420T151145
CREATED:20250523T090157Z
LAST-MODIFIED:20260309T161350Z
UID:10001771-1779285600-1779292800@werkstatt.insel-ev.de
SUMMARY:Kurs: Alles aus Tetrapack
DESCRIPTION:Tetrapacks sind ein tolles Ausgangsmaterial für viele nachhaltige Projekte.\nPortemonnaie\, Blumenvase\, Aufbewahrungsbox\, Dokumentenhüllen\,….und vieles\nandere Schöne mehr kann aus alten Milch- und Safttüten entstehen. Sie lassen sich vernähen\,\nbesticken und als Druckvorlage nutzen.\nWir wollen einiges davon gemeinsam auszuprobieren und experimentieren\, dabei soll die Freude am\ngemeinschaftlichen und kreativen Tun im Vordergrund stehen.\nBring deine Ideen mit und lass uns schauen was entsteht.\nKaffee\, Tee und Wasser halten wir in der Werkstatt für euch bereit.\nWir freuen uns auf euch.\nAnmeldung bitte unter werkstatt@insel-ev.de oder telefonisch unter 040/ 380 38 36 244
URL:https://werkstatt.insel-ev.de/event/alles-aus-tetrapack/2026-05-20
LOCATION:Offener Werkstatt-Treff\, Elbgaustraße 244\, Lurup\, Hamburg\, 22547\, Deutschland
CATEGORIES:Einführung
ATTACH;FMTTYPE=image/jpeg:https://werkstatt.insel-ev.de/wp-content/uploads/2024/12/IMG_20250107_093759-scaled.jpg
ORGANIZER;CN="Offene Werkstatt":MAILTO:werkstatt@insel-ev.de
END:VEVENT
BEGIN:VEVENT
DTSTART;TZID=Europe/Berlin:20260520T170000
DTEND;TZID=Europe/Berlin:20260520T180000
DTSTAMP:20260420T151145
CREATED:20260212T154027Z
LAST-MODIFIED:20260331T122618Z
UID:10001565-1779296400-1779300000@werkstatt.insel-ev.de
SUMMARY:“Eimer für alle” – unser lokales Kunststoff-Sammelsystem - Kick-Off und Aufstellung
DESCRIPTION:Der neuste Schrei! Machste mit? \n“Eimer für alle” – unser lokales Kunststoff-Sammelsystem  \n  \nWorkshop Nr. 4: Kick-Off & Aufstellung der ersten „Eimer für alle“ Do. 20.05. (Uhrzeit und Ort noch nicht festgelegt)\nWir treffen uns mit allen Interessierten und hängen die ersten drei Behälter in Lurup und Umgebung auf. \n  \nDer Hintergrund: \nUm noch mehr Plastikabfälle für einen sozialen\, gemeinnützigen und nachhaltigen Produktkreislauf zu gewinnen – statt dass sie verbrannt werden – möchten wir die Sammlung vereinfachen. Und dabei zugleich noch mehr Menschen einladen\, sich für Kunststoffrecycling zu engagieren. \nZuerst haben wir zusammen Sammelbehälter aus Plastikmüll entwickelt und sie gebaut. Nun werden sie gemeinsam eingeweiht. So wird ein lokales Kunststoff-Sammelsystem errichtet: aus dem gesammelten Plastik werden so lange weitere Sammelbehälter gebaut\, bis alle mit ihnen versorgt sind. „Alle“ meint z.B. Vereine\, Schulen\, soziale Einrichtungen\, Supermärkte oder auch Unternehmen in der Umgebung. Die Abholung erfolgt CO2-neutral mit einem E-Lastenrad. \n  \nDanach geht es weiter… und wenn es klappt\, hört es erstmal nicht auf 😎 \n  \nQuelle Bild: vecteezy.com
URL:https://werkstatt.insel-ev.de/event/eimer-fuer-alle-unser-lokales-kunststoff-sammelsystem-bau-der-prototypen-2
LOCATION:Offener Werkstatt-Treff\, Elbgaustraße 244\, Lurup\, Hamburg\, 22547\, Deutschland
CATEGORIES:Plastikrecycling
ATTACH;FMTTYPE=image/png:https://werkstatt.insel-ev.de/wp-content/uploads/2026/01/vecteezy_overflowing-trash-can-on-transparent-background_48413110-scaled.png
ORGANIZER;CN="Offene Werkstatt":MAILTO:werkstatt@insel-ev.de
END:VEVENT
BEGIN:VEVENT
DTSTART;TZID=Europe/Berlin:20260521T170000
DTEND;TZID=Europe/Berlin:20260521T200000
DTSTAMP:20260420T151145
CREATED:20260402T151641Z
LAST-MODIFIED:20260402T151641Z
UID:10001777-1779382800-1779393600@werkstatt.insel-ev.de
SUMMARY:Kurs: FreeCAD einfach erklärt! Modul 1
DESCRIPTION:Möchtest Du Prototypen entwickeln\, Modelle für den 3D-Druck entwerfen oder CAD lernen.\nDann ist dieser Kurs genau richtig für Dich\, für den Einstieg in die Open-Source-Freiheit von FreeCAD.\nViele wissen aufgrund des Funktionsumfangs von FreeCAD nicht\, wie sie starten sollen.\nGenau dabei hilft dir dieser Kurs.\nDu lernst\, wie FreeCAD aufgebaut ist und wie du das Programm für Deine Zwecke nutzen kannst.\nIm ersten Modul erwartet dich ein Rundgang durch das Programm und lernst die wichtigsten Grundlagen. \nMitmachen können alle\, die grundlegende Computerkenntnisse mitbringen als auch technisches Grundverständnis\, Vorstellungsvermögen\, Lust zum Lernen\, Fleiß und Durchhaltevermögen.\nBitte bringt einen Laptop mit auf dem ihr FreeCAD installiert habt. Für einige\, die keinen eigenen Laptop haben\, können wir einen aus der Werkstatt zur Verfügung stellen. Bitte bei der Anmeldung Bescheid sagen. \nKaffee\, Tee und Wasser halten wir in der Werkstatt für euch bereit. \nWir freuen uns auf euch.\nAnmeldung: Bitte sag uns telefonisch Bescheid oder\nschreib eine Mail an werkstatt@insel-ev.de
URL:https://werkstatt.insel-ev.de/event/kurs-freecad-einfach-erklaert-modul-1
LOCATION:Offener Werkstatt-Treff\, Elbgaustraße 244\, Lurup\, Hamburg\, 22547\, Deutschland
CATEGORIES:Einführung,Training,Workshop
ATTACH;FMTTYPE=image/png:https://werkstatt.insel-ev.de/wp-content/uploads/2026/04/cover-photo-freecad.png
ORGANIZER;CN="Offene Werkstatt":MAILTO:werkstatt@insel-ev.de
END:VEVENT
BEGIN:VEVENT
DTSTART;TZID=Europe/Berlin:20260527T140000
DTEND;TZID=Europe/Berlin:20260527T160000
DTSTAMP:20260420T151145
CREATED:20251205T155157Z
LAST-MODIFIED:20260309T161255Z
UID:10001770-1779890400-1779897600@werkstatt.insel-ev.de
SUMMARY:Seifenkurs
DESCRIPTION:Naturseifen bieten eine tolle Pflege und kommen ohne Umverpackung daher. In vielen Rezepten sind jedoch Palm- oder Kokosöle enthalten. Wir wollen in diesem Kurs eine Seife aus nachhaltigeren Zutaten sieden\, die wunderbar zur Haut und zur Umwelt ist. \nIhr lernt die Grundbegriffe des Seifesiedens und die wichtigsten Zutaten kennen. Zusammen stellen wir dann eine Seife her. \nNach ein paar Tagen könnt ihr eure Seifenstücke (je nach Form und Größe ca. 2-3 Stück) abholen. Das erste Mal benutzen könnt ihr die Seife nach 6-8 Wochen\, also noch genau richtig für die Weihnachtsgeschenke. \nDa wir mit Lauge arbeiten bitte alte Kleidung oder eine Schürze mitzubringen. \nWir wünschen uns von den Menschen\, denen es möglich ist\, eine Materialkostenpauschale von 6 Euro für die Öle und Zutaten. Alle anderen sind herzlich eingeladen zu geben was geht oder wie immer kostenlos teilzunehmen.  \nKaffee\, Tee und Wasser halten wir in der Werkstatt für euch bereit.\nWir freuen uns auf euch! \nAnmeldung: Bitte schreibe eine Mail an werkstatt@insel-ev.de oder sag uns telefonisch Bescheid.
URL:https://werkstatt.insel-ev.de/event/seifenkurs-2-2/2026-05-27
LOCATION:Offener Werkstatt-Treff\, Elbgaustraße 244\, Lurup\, Hamburg\, 22547\, Deutschland
CATEGORIES:Einführung
ATTACH;FMTTYPE=image/jpeg:https://werkstatt.insel-ev.de/wp-content/uploads/2024/07/Bild-SEife-scaled.jpg
ORGANIZER;CN="Offene Werkstatt":MAILTO:werkstatt@insel-ev.de
END:VEVENT
BEGIN:VEVENT
DTSTART;TZID=Europe/Berlin:20260530T110000
DTEND;TZID=Europe/Berlin:20260530T140000
DTSTAMP:20260420T151145
CREATED:20240913T131835Z
LAST-MODIFIED:20260309T161457Z
UID:10001772-1780138800-1780149600@werkstatt.insel-ev.de
SUMMARY:Workshop: CNC-Fräsen lernen
DESCRIPTION:Starte mit uns in die Welt des CNC-Fräsens! \nIn diesem Workshop bekommst du eine praktische Einführung ins CNC-Fräsen und lernst\, wie du eigene Entwürfe mit Fusion 360 vorbereitest.\nZusammen erstellen wir ein einfaches Beispielprojekt\, das wir direkt im Anschluss auf der CNC-Fräse umsetzen. \nDu erhältst einen Überblick über alle wichtigen Grundlagen: vom digitalen Design bis zur fertigen gefrästen Form.\nNach dem Kurs weißt du\, wie eine CNC-Fräse arbeitet und bist in der Lage\, eigene kleine Projekte zu realisieren.\nDer Workshop bietet dir einen umfassenden Einstieg und vermittelt die wichtigsten ersten Fähigkeiten und Kenntnisse in dieser modernen Fertigungstechnik. \nBitte bringe deinen eigenen Laptop und eine Maus mit.\nFalls du beides nicht hast\, melde dich einfach vorher bei uns. \nMitmachen können alle ab 14 Jahren\, die grundlegende Computerkenntnisse mitbringen. \nFür Getränke wie Kaffee\, Tee und Wasser ist in unserer Werkstatt gesorgt. \nDer Workshop ist – wie immer – komplett kostenfrei. 🙂 \nWir freuen uns auf euch! \nAnmeldung: Bitte schreib eine kurze Mail an werkstatt@insel-ev.de
URL:https://werkstatt.insel-ev.de/event/workshop-cnc-fraesen-lernen/2026-05-30
LOCATION:Offener Werkstatt-Treff\, Elbgaustraße 244\, Lurup\, Hamburg\, 22547\, Deutschland
CATEGORIES:Einführung,Workshop
ATTACH;FMTTYPE=image/webp:https://werkstatt.insel-ev.de/wp-content/uploads/2022/05/CNC_mini_Detail_UniversalClamp-Bed-1920w.webp
ORGANIZER;CN="Offene Werkstatt":MAILTO:werkstatt@insel-ev.de
END:VEVENT
END:VCALENDAR