BEGIN:VCALENDAR
VERSION:2.0
PRODID:-//Offene Werkstatt - ECPv6.15.20//NONSGML v1.0//EN
CALSCALE:GREGORIAN
METHOD:PUBLISH
X-ORIGINAL-URL:https://werkstatt.insel-ev.de
X-WR-CALDESC:Veranstaltungen für Offene Werkstatt
REFRESH-INTERVAL;VALUE=DURATION:PT1H
X-Robots-Tag:noindex
X-PUBLISHED-TTL:PT1H
BEGIN:VTIMEZONE
TZID:Europe/Berlin
BEGIN:DAYLIGHT
TZOFFSETFROM:+0100
TZOFFSETTO:+0200
TZNAME:CEST
DTSTART:20250330T010000
END:DAYLIGHT
BEGIN:STANDARD
TZOFFSETFROM:+0200
TZOFFSETTO:+0100
TZNAME:CET
DTSTART:20251026T010000
END:STANDARD
BEGIN:DAYLIGHT
TZOFFSETFROM:+0100
TZOFFSETTO:+0200
TZNAME:CEST
DTSTART:20260329T010000
END:DAYLIGHT
BEGIN:STANDARD
TZOFFSETFROM:+0200
TZOFFSETTO:+0100
TZNAME:CET
DTSTART:20261025T010000
END:STANDARD
BEGIN:DAYLIGHT
TZOFFSETFROM:+0100
TZOFFSETTO:+0200
TZNAME:CEST
DTSTART:20270328T010000
END:DAYLIGHT
BEGIN:STANDARD
TZOFFSETFROM:+0200
TZOFFSETTO:+0100
TZNAME:CET
DTSTART:20271031T010000
END:STANDARD
END:VTIMEZONE
BEGIN:VEVENT
DTSTART;TZID=Europe/Berlin:20260602T170000
DTEND;TZID=Europe/Berlin:20260602T190000
DTSTAMP:20260424T121718
CREATED:20250820T102708Z
LAST-MODIFIED:20260302T095303Z
UID:10000961-1780419600-1780426800@werkstatt.insel-ev.de
SUMMARY:Textiles Repair-Cafe
DESCRIPTION:Deine Lieblingshose hat ein Loch\, die Ärmel der neuen Bluse sind zu lang oder du willst aus einem alten Shirt etwas ganz Neues machen? Du würdest gern loslegen\, weißt aber nicht so recht\, wie? \nDann bist du bei uns genau richtig. Wir bieten dir Unterstützung bei deinen Ideen und helfen bei der Umsetzung\, damit dein Lieblingsstück nicht weggeschmissen werden muss und Gebrauchtes ein zweites Leben bekommt. \nIn der Werkstatt stehen dir Nähmaschinen\, Garn\, Knöpfe\, Stoffe und viele weitere Materialien zur Verfügung – und natürlich helfende Hände. \nAlso ran an den Kleiderschrank und kommt her\, wir freuen uns auf euch. \nWann: Jeden ersten und letzten Dienstag im Monat von 17:00- 19:00 Uhr
URL:https://werkstatt.insel-ev.de/event/textiles-repair-cafe/2026-06-02
LOCATION:Offener Werkstatt-Treff\, Elbgaustraße 244\, Lurup\, Hamburg\, 22547\, Deutschland
CATEGORIES:Gruppe
ATTACH;FMTTYPE=image/jpeg:https://werkstatt.insel-ev.de/wp-content/uploads/2025/08/IMG_20250813_163137-scaled.jpg
ORGANIZER;CN="Offene Werkstatt":MAILTO:werkstatt@insel-ev.de
END:VEVENT
BEGIN:VEVENT
DTSTART;TZID=Europe/Berlin:20260603T140000
DTEND;TZID=Europe/Berlin:20260603T160000
DTSTAMP:20260424T121718
CREATED:20260402T151124Z
LAST-MODIFIED:20260402T151124Z
UID:10001776-1780495200-1780502400@werkstatt.insel-ev.de
SUMMARY:Das 1x1 der Handsäge für Frauen/FLINTA
DESCRIPTION:Du hast noch nie eine Säge in der Hand gehalten\, aber hast Lust darauf? Oder hast du eine Säge benutzt\, aber warst unsicher\, ob es die richtige für die vor dir liegende Aufgabe war? So oder so bist du in diesem Kurs genau richtig! Der Kurs richtet sich an Anfänger:innen und (noch) unsichere\, aber interessierte Werker:innen. \n  \nNach einer kurzen theoretischen Einführung in die weite Welt der Handsägen (von der Puk- bis zur Japansäge\, gucken wir uns verschiedene Modelle an)\, soll natürlich selbst Hand angelegt und gesägt\, gesägt\, gesägt werden. \n  \nWenn du dich nach ein paar Übungsschnitten in Holz\, Metall und Kunststoff sicher genug fühlst\, gibt es die Möglichkeit aus Restmaterialien einen kleinen Kerzenhalter zu bauen und mit nach Hause zu nehmen. \n  \nWir freuen uns auf Dich! \n  \nKaffee\, Tee und Wasser halten wir in der Werkstatt für euch bereit. \n  \nAnmeldung: Schreib eine Mail an werkstatt@insel-ev.de oder sag uns telefonisch Bescheid.
URL:https://werkstatt.insel-ev.de/event/das-1x1-der-handsaege-fuer-frauen-flinta
LOCATION:Offener Werkstatt-Treff\, Elbgaustraße 244\, Lurup\, Hamburg\, 22547\, Deutschland
CATEGORIES:Einführung,Workshop
ATTACH;FMTTYPE=image/jpeg:https://werkstatt.insel-ev.de/wp-content/uploads/2026/04/bild-sarah-scaled.jpg
ORGANIZER;CN="Offene Werkstatt":MAILTO:werkstatt@insel-ev.de
END:VEVENT
BEGIN:VEVENT
DTSTART;TZID=Europe/Berlin:20260604T170000
DTEND;TZID=Europe/Berlin:20260604T200000
DTSTAMP:20260424T121718
CREATED:20260402T151728Z
LAST-MODIFIED:20260402T151728Z
UID:10001778-1780592400-1780603200@werkstatt.insel-ev.de
SUMMARY:Kurs: FreeCAD einfach erklärt! Modul 2
DESCRIPTION:Du hast im ersten Modul die wichtigsten Grundlagen von FreeCAD kennengelernt und möchtest nun deine Kenntnisse erweitern\, um anspruchsvollere Projekte zu verwirklichen oder mehr CAD lernen.\nDann ist dieser Kurs genau richtig für Dich\, für deine weiteren Schritte in die Open-Source-Freiheit von FreeCAD.\nAufbauend auf Modul 1 lernst Du das Erstellen von Baugruppen und das Ableiten von Zeichnungen. Weiter wirst du hier auch nützliche Add-ons etc. kennenlernen. \nMitmachen können alle\, die das erste Modul mitgemacht haben oder erste Grundkenntnisse in FreeCAD haben und diese auffrischen wollen. Auch im zweiten Modul werden wir Konstruktionsbeispiele nachbilden und gemeinsam üben. \nBitte bringt einen Laptop mit auf dem ihr FreeCAD installiert habt. Für einige\, die keinen eigenen Laptop haben\, können wir einen aus der Werkstatt zur Verfügung stellen. Bitte bei der Anmeldung Bescheid sagen \nKaffee\, Tee und Wasser halten wir in der Werkstatt für euch bereit. \nWir freuen uns auf euch. \nAnmeldung: Bitte sag uns telefonisch Bescheid oder\nschreib eine Mail an werkstatt@insel-ev.de
URL:https://werkstatt.insel-ev.de/event/kurs-freecad-einfach-erklaert-modul-2
LOCATION:Offener Werkstatt-Treff\, Elbgaustraße 244\, Lurup\, Hamburg\, 22547\, Deutschland
CATEGORIES:Einführung,Training,Workshop
ATTACH;FMTTYPE=image/png:https://werkstatt.insel-ev.de/wp-content/uploads/2026/04/cover-photo-freecad.png
ORGANIZER;CN="Offene Werkstatt":MAILTO:werkstatt@insel-ev.de
END:VEVENT
BEGIN:VEVENT
DTSTART;TZID=Europe/Berlin:20260609T170000
DTEND;TZID=Europe/Berlin:20260609T190000
DTSTAMP:20260424T121718
CREATED:20251217T124651Z
LAST-MODIFIED:20260309T160159Z
UID:10001582-1781024400-1781031600@werkstatt.insel-ev.de
SUMMARY:Elektro-Selbsthilfe / Repair-Café
DESCRIPTION:Wenn der Wasserkocher nicht mehr will\, der Akkuschrauber komische Geräusche macht und der Fön\nnur noch kalte Luft bläst: \nDann gib ihnen die Chance auf ein zweites Leben und komm zu uns zur Elektro-Selbsthilfe. \nWir bieten dir die Möglichkeit\, dein kaputtes Gerät unter Anleitung selber zu reparieren. \nWenn ihr Gebrauchsgegenstände der persönlichen Hygiene mitbringt\, wie zum Beispiel einen Rasierer\, dann kommt bitte mit gereinigten Geräten. \nVon der Reparatur ausgeschlossen sind: Handys\, HiFi-Geräte\, Kaffeevollautomaten und PC sowie deren Zubehör. \nEine Anmeldung für dieses Angebot ist unbedingt erforderlich. \nKaffee\, Tee und Wasser halten wir in der Werkstatt für euch bereit. \nWir freuen uns auf euch. \nAnmeldung: Bitte sag uns telefonisch Bescheid oder\nschreib eine Mail an werkstatt@insel-ev.de
URL:https://werkstatt.insel-ev.de/event/elektro-selbsthilfe-repair-cafe/2026-06-09
LOCATION:Offener Werkstatt-Treff\, Elbgaustraße 244\, Lurup\, Hamburg\, 22547\, Deutschland
ATTACH;FMTTYPE=image/jpeg:https://werkstatt.insel-ev.de/wp-content/uploads/2025/12/signal-2025-12-17-12-01-01-308.jpg
ORGANIZER;CN="Offene Werkstatt":MAILTO:werkstatt@insel-ev.de
END:VEVENT
BEGIN:VEVENT
DTSTART;TZID=Europe/Berlin:20260610T140000
DTEND;TZID=Europe/Berlin:20260610T160000
DTSTAMP:20260424T121718
CREATED:20250826T152753Z
LAST-MODIFIED:20260309T161125Z
UID:10001769-1781100000-1781107200@werkstatt.insel-ev.de
SUMMARY:Einführung ins Plastik-Recycling
DESCRIPTION:Wir ertrinken im Plastikmüll\, aber hier in der Werkstatt haben wir eine Lösung und machen aus\ngebrauchtem Plastik etwas komplett Neues.\nHabt ihr Lust diesen Recyclingprozess kennenzulernen?\nIhr werdet vom Anfang bis Ende die unterschiedlichen Schritte erleben und\nmit Unterstützung die Maschinen dafür kennenlernen.\nEs wird sortiert\, geschreddert\, gepresst und extrudiert.\nIhr lernt welches Plastik wir hier in der Werkstatt verarbeiten können \nKaffee\, Tee und Wasser halten wir in der Werkstatt für euch bereit. \nWir freuen uns auf euch. \nAnmeldung: Bitte sag uns telefonisch Bescheid oder\nschreib eine Mail an werkstatt@insel-ev.de
URL:https://werkstatt.insel-ev.de/event/einfuehrung-ins-plastik-recycling/2026-06-10
LOCATION:Offener Werkstatt-Treff\, Elbgaustraße 244\, Lurup\, Hamburg\, 22547\, Deutschland
CATEGORIES:Einführung
ATTACH;FMTTYPE=image/jpeg:https://werkstatt.insel-ev.de/wp-content/uploads/2025/08/Plastikstrasse-scaled.jpg
ORGANIZER;CN="Offene Werkstatt":MAILTO:werkstatt@insel-ev.de
END:VEVENT
BEGIN:VEVENT
DTSTART;TZID=Europe/Berlin:20260616T170000
DTEND;TZID=Europe/Berlin:20260616T190000
DTSTAMP:20260424T121718
CREATED:20260309T160338Z
LAST-MODIFIED:20260309T160338Z
UID:10001706-1781629200-1781636400@werkstatt.insel-ev.de
SUMMARY:Elektro-Selbsthilfe / Repair-Café
DESCRIPTION:Wenn der Wasserkocher nicht mehr will\, der Akkuschrauber komische Geräusche macht und der Fön\nnur noch kalte Luft bläst: \nDann gib ihnen die Chance auf ein zweites Leben und komm zu uns zur Elektro-Selbsthilfe. \nWir bieten dir die Möglichkeit\, dein kaputtes Gerät unter Anleitung selber zu reparieren. \nWenn ihr Gebrauchsgegenstände der persönlichen Hygiene mitbringt\, wie zum Beispiel einen Rasierer\, dann kommt bitte mit gereinigten Geräten. \nVon der Reparatur ausgeschlossen sind: Handys\, HiFi-Geräte\, Kaffeevollautomaten und PC sowie deren Zubehör. \nEine Anmeldung für dieses Angebot ist unbedingt erforderlich. \nKaffee\, Tee und Wasser halten wir in der Werkstatt für euch bereit. \nWir freuen uns auf euch. \nAnmeldung: Bitte sag uns telefonisch Bescheid oder\nschreib eine Mail an werkstatt@insel-ev.de
URL:https://werkstatt.insel-ev.de/event/elektro-selbsthilfe-repair-cafe-2/2026-06-16
LOCATION:Offener Werkstatt-Treff\, Elbgaustraße 244\, Lurup\, Hamburg\, 22547\, Deutschland
ATTACH;FMTTYPE=image/jpeg:https://werkstatt.insel-ev.de/wp-content/uploads/2025/12/signal-2025-12-17-12-01-01-308.jpg
ORGANIZER;CN="Offene Werkstatt":MAILTO:werkstatt@insel-ev.de
END:VEVENT
BEGIN:VEVENT
DTSTART;TZID=Europe/Berlin:20260617T140000
DTEND;TZID=Europe/Berlin:20260617T160000
DTSTAMP:20260424T121718
CREATED:20250523T084129Z
LAST-MODIFIED:20260309T161633Z
UID:10001773-1781704800-1781712000@werkstatt.insel-ev.de
SUMMARY:Kurs: Klemmbretter herstellen
DESCRIPTION:Wir recyceln altes Plastik und machen tolle neue Sachen daraus\,\nwie zum Beispiel dieses Klemmbrett.\nIn diesem Kurs bekommst du einen Einblick in unseren Plastik-Recycling-Prozess.\nAnschließend kannst du unter Anleitung ein Klemmbrett aus unseren selbstgemachten Platten\nherstellen. \nEs sind immer absolute Unikate\, echte Hingucker und schöne Geschenke.\nWir freuen uns auf dich. \nWir wünschen uns von den Menschen\, denen es möglich ist\, eine Materialkostenpauschale von 1 Euro. Alle anderen sind herzlich eingeladen zu geben was geht oder wie immer kostenlos teilzunehmen.  \nKaffee\, Tee und Wasser halten wir in der Werkstatt für euch bereit.\nAnmeldung: Schreib eine Mail an werkstatt@insel-ev.de oder sag uns telefonisch Bescheid.
URL:https://werkstatt.insel-ev.de/event/kurs-klemmbretter/2026-06-17
LOCATION:Offener Werkstatt-Treff\, Elbgaustraße 244\, Lurup\, Hamburg\, 22547\, Deutschland
CATEGORIES:Einführung
ATTACH;FMTTYPE=image/jpeg:https://werkstatt.insel-ev.de/wp-content/uploads/2025/05/Foto-Klemmbretter-scaled.jpg
ORGANIZER;CN="Offene Werkstatt":MAILTO:werkstatt@insel-ev.de
END:VEVENT
BEGIN:VEVENT
DTSTART;TZID=Europe/Berlin:20260624T140000
DTEND;TZID=Europe/Berlin:20260624T160000
DTSTAMP:20260424T121718
CREATED:20251205T154909Z
LAST-MODIFIED:20260309T161832Z
UID:10001774-1782309600-1782316800@werkstatt.insel-ev.de
SUMMARY:Löten lernen und eine Solarlampe bauen
DESCRIPTION:Du wolltest immer schon mal löten lernen?\nUnter fachkundiger Leitung baut jede_r Teilnehmende ein Solarlicht\, das am Ende mit nach Hause genommen werden kann.\nIn einer kleinen Gruppe kannst du erste Erfahrungen beim Löten sammeln und eine\nPlatine mit elektrischen Bauteilen bestücken.\nEs sind keine Vorkenntnisse erforderlich. \nMaterial und Werkzeug haben wir für euch in der Werkstatt und\nauch Kaffee\, Tee und Wasser halten wir in der Werkstatt bereit. \nWir freuen uns auf euch. \nAnmeldung: Bitte sag uns telefonisch Bescheid oder\nschreib eine Mail an werkstatt@insel-ev.de
URL:https://werkstatt.insel-ev.de/event/loeten-lernen-und-eine-solarlampe-bauen/2026-06-24
LOCATION:Offene Werkstatt\, Elbgaustraße 244\, Hamburg\, Hamburg\, 22547\, Deutschland
CATEGORIES:Einführung
ATTACH;FMTTYPE=image/jpeg:https://werkstatt.insel-ev.de/wp-content/uploads/2025/08/loetkurs-scaled.jpg
ORGANIZER;CN="Offene Werkstatt":MAILTO:werkstatt@insel-ev.de
END:VEVENT
BEGIN:VEVENT
DTSTART;TZID=Europe/Berlin:20260630T170000
DTEND;TZID=Europe/Berlin:20260630T190000
DTSTAMP:20260424T121718
CREATED:20251205T160141Z
LAST-MODIFIED:20260309T155746Z
UID:10001523-1782838800-1782846000@werkstatt.insel-ev.de
SUMMARY:Textiles Repair-Cafe
DESCRIPTION:Deine Lieblingshose hat ein Loch\, die Ärmel der neuen Bluse sind zu lang oder du willst aus einem alten Shirt etwas ganz Neues machen? Du würdest gern loslegen\, weißt aber nicht so recht\, wie? \nDann bist du bei uns genau richtig. Wir bieten dir Unterstützung bei deinen Ideen und helfen bei der Umsetzung\, damit dein Lieblingsstück nicht weggeschmissen werden muss und Gebrauchtes ein zweites Leben bekommt. \nIn der Werkstatt stehen dir Nähmaschinen\, Garn\, Knöpfe\, Stoffe und viele weitere Materialien zur Verfügung – und natürlich helfende Hände. \nAlso ran an den Kleiderschrank und kommt her\, wir freuen uns auf euch. \nWann: Jeden ersten und letzten Dienstag im Monat von 17:00- 19:00 Uhr
URL:https://werkstatt.insel-ev.de/event/textiles-repair-cafe-2-2/2026-06-30
LOCATION:Offener Werkstatt-Treff\, Elbgaustraße 244\, Lurup\, Hamburg\, 22547\, Deutschland
CATEGORIES:Gruppe
ATTACH;FMTTYPE=image/jpeg:https://werkstatt.insel-ev.de/wp-content/uploads/2025/08/IMG_20250813_163137-scaled.jpg
ORGANIZER;CN="Offene Werkstatt":MAILTO:werkstatt@insel-ev.de
END:VEVENT
END:VCALENDAR