BEGIN:VCALENDAR
VERSION:2.0
PRODID:-//Offene Werkstatt - ECPv6.15.20//NONSGML v1.0//EN
CALSCALE:GREGORIAN
METHOD:PUBLISH
X-ORIGINAL-URL:https://werkstatt.insel-ev.de
X-WR-CALDESC:Veranstaltungen für Offene Werkstatt
REFRESH-INTERVAL;VALUE=DURATION:PT1H
X-Robots-Tag:noindex
X-PUBLISHED-TTL:PT1H
BEGIN:VTIMEZONE
TZID:Europe/Berlin
BEGIN:DAYLIGHT
TZOFFSETFROM:+0100
TZOFFSETTO:+0200
TZNAME:CEST
DTSTART:20240331T010000
END:DAYLIGHT
BEGIN:STANDARD
TZOFFSETFROM:+0200
TZOFFSETTO:+0100
TZNAME:CET
DTSTART:20241027T010000
END:STANDARD
BEGIN:DAYLIGHT
TZOFFSETFROM:+0100
TZOFFSETTO:+0200
TZNAME:CEST
DTSTART:20250330T010000
END:DAYLIGHT
BEGIN:STANDARD
TZOFFSETFROM:+0200
TZOFFSETTO:+0100
TZNAME:CET
DTSTART:20251026T010000
END:STANDARD
BEGIN:DAYLIGHT
TZOFFSETFROM:+0100
TZOFFSETTO:+0200
TZNAME:CEST
DTSTART:20260329T010000
END:DAYLIGHT
BEGIN:STANDARD
TZOFFSETFROM:+0200
TZOFFSETTO:+0100
TZNAME:CET
DTSTART:20261025T010000
END:STANDARD
END:VTIMEZONE
BEGIN:VEVENT
DTSTART;TZID=Europe/Berlin:20250226T140000
DTEND;TZID=Europe/Berlin:20250226T160000
DTSTAMP:20260424T165517
CREATED:20241219T151100Z
LAST-MODIFIED:20241219T151100Z
UID:10000830-1740578400-1740585600@werkstatt.insel-ev.de
SUMMARY:Kurs: Klemmbretter herstellen
DESCRIPTION:Wir recyceln altes Plastik und machen tolle neue Sachen daraus. \nWie zum Beispiel dieses Klemmbrett. \nIn diesem Kurs gibt es einen Einblick in unseren Plastik-Recycling-Prozess. Anschließend kann Jede_r unter Anleitung ein Klemmbrett aus unseren selbstgemachten Platten herstellen. \nEs sind immer absolute Unikate\, echte Hingucker und schöne Geschenke. \n  \nKaffee\, Tee und Wasser halten wir in der Werkstatt für euch bereit. \n  \nWir wünschen uns von den Menschen\, denen es möglich ist\, eine Materialkostenpauschale von 1 Euro für die Materialien. Alle anderen sind herzlich eingeladen zu geben was geht oder wie immer kostenlos teilzunehmen. 🙂  \nWir freuen uns auf Euch! \nAnmeldung: Bitte schreibe eine Mail an werkstatt@insel-ev.de \n 
URL:https://werkstatt.insel-ev.de/event/kurs-klemmbretter-herstellen
LOCATION:Offener Werkstatt-Treff\, Elbgaustraße 244\, Lurup\, Hamburg\, 22547\, Deutschland
CATEGORIES:Einführung,Schnupperkurs
ATTACH;FMTTYPE=image/jpeg:https://werkstatt.insel-ev.de/wp-content/uploads/2024/06/1717509013060-scaled.jpg
ORGANIZER;CN="Offene Werkstatt":MAILTO:werkstatt@insel-ev.de
END:VEVENT
END:VCALENDAR