BEGIN:VCALENDAR
VERSION:2.0
PRODID:-//Offene Werkstatt - ECPv6.15.20//NONSGML v1.0//EN
CALSCALE:GREGORIAN
METHOD:PUBLISH
X-WR-CALNAME:Offene Werkstatt
X-ORIGINAL-URL:https://werkstatt.insel-ev.de
X-WR-CALDESC:Veranstaltungen für Offene Werkstatt
REFRESH-INTERVAL;VALUE=DURATION:PT1H
X-Robots-Tag:noindex
X-PUBLISHED-TTL:PT1H
BEGIN:VTIMEZONE
TZID:Europe/Berlin
BEGIN:DAYLIGHT
TZOFFSETFROM:+0100
TZOFFSETTO:+0200
TZNAME:CEST
DTSTART:20250330T010000
END:DAYLIGHT
BEGIN:STANDARD
TZOFFSETFROM:+0200
TZOFFSETTO:+0100
TZNAME:CET
DTSTART:20251026T010000
END:STANDARD
BEGIN:DAYLIGHT
TZOFFSETFROM:+0100
TZOFFSETTO:+0200
TZNAME:CEST
DTSTART:20260329T010000
END:DAYLIGHT
BEGIN:STANDARD
TZOFFSETFROM:+0200
TZOFFSETTO:+0100
TZNAME:CET
DTSTART:20261025T010000
END:STANDARD
BEGIN:DAYLIGHT
TZOFFSETFROM:+0100
TZOFFSETTO:+0200
TZNAME:CEST
DTSTART:20270328T010000
END:DAYLIGHT
BEGIN:STANDARD
TZOFFSETFROM:+0200
TZOFFSETTO:+0100
TZNAME:CET
DTSTART:20271031T010000
END:STANDARD
END:VTIMEZONE
BEGIN:VEVENT
DTSTART;TZID=Europe/Berlin:20260126T133000
DTEND;TZID=Europe/Berlin:20260126T160000
DTSTAMP:20260424T143347
CREATED:20241030T154814Z
LAST-MODIFIED:20260401T143404Z
UID:10001545-1769434200-1769443200@werkstatt.insel-ev.de
SUMMARY:Kurs: Vögel gegen die Einsamkeit - Messenger Birds und ihre Geschichte
DESCRIPTION:Arsenii und seine Frau Anna haben die schöne Idee Menschen\, die einsam sind\, miteinander zu verbinden. Arsenii ist ein russischer Künstler\, der aus Angst vor Verfolgung aus Russland geflohen und über viele Wege nach Hamburg gekommen ist. Aus eigener Erfahrung mit Einsamkeit und dem Wunsch „Hallo“ zur Stadt zu sagen\, hat er angefangen kleine Vögel zu nähen und diese an Menschen zu verschenken. \nDie Vögel liegen an öffentlichen Orten\, mit einer Notiz: „Fühlst du dich manchmal einsam oder isoliert? Nimm dir einen Vogel!“ Jeder Vogel kommt mit einem Brief an die Person\, die ihn findet. Deshalb nennen sie das Projekt Messenger Birds. Jedes Wesen hat einen Namen und eine Geschichte\, die auf Instagram geteilt wird. \nAuf diese Weise verbinden sich die Menschen und es wird eine kleine Alternative zur Einsamkeit sichtbar. \nIn diesem Kurs zeigt Arsenii wie die kleinen Vögel genäht werden.\nDu kannst einen Vogel für dich oder jemanden\, der einsam ist\, anfertigen.\nEs sind keine besonderen Nähkenntnisse erforderlich\, alle sind willkommen.\nDie Teilnehmer_innen-Zahl ist auf sechs Personen begrenzt.\nWir sehen uns im Nest! \nFür den Kurs gibt es Kaffee\, Tee und Wasser. \nAnmeldung bitte an werkstatt@insel-ev.de oder telefonisch: 040 380 38 36 – 244.
URL:https://werkstatt.insel-ev.de/event/kurs-voegel-gegen-die-einsamkeit-messenger-birds-und-ihre-geschichte/2026-01-26
LOCATION:Offener Werkstatt-Treff\, Elbgaustraße 244\, Lurup\, Hamburg\, 22547\, Deutschland
CATEGORIES:Einführung
ATTACH;FMTTYPE=image/jpeg:https://werkstatt.insel-ev.de/wp-content/uploads/2024/10/Foto-Vogel-scaled.jpg
ORGANIZER;CN="Offene Werkstatt":MAILTO:werkstatt@insel-ev.de
END:VEVENT
BEGIN:VEVENT
DTSTART;TZID=Europe/Berlin:20260127T170000
DTEND;TZID=Europe/Berlin:20260127T190000
DTSTAMP:20260424T143347
CREATED:20251205T160141Z
LAST-MODIFIED:20260309T155746Z
UID:10001074-1769533200-1769540400@werkstatt.insel-ev.de
SUMMARY:Textiles Repair-Cafe
DESCRIPTION:Deine Lieblingshose hat ein Loch\, die Ärmel der neuen Bluse sind zu lang oder du willst aus einem alten Shirt etwas ganz Neues machen? Du würdest gern loslegen\, weißt aber nicht so recht\, wie? \nDann bist du bei uns genau richtig. Wir bieten dir Unterstützung bei deinen Ideen und helfen bei der Umsetzung\, damit dein Lieblingsstück nicht weggeschmissen werden muss und Gebrauchtes ein zweites Leben bekommt. \nIn der Werkstatt stehen dir Nähmaschinen\, Garn\, Knöpfe\, Stoffe und viele weitere Materialien zur Verfügung – und natürlich helfende Hände. \nAlso ran an den Kleiderschrank und kommt her\, wir freuen uns auf euch. \nWann: Jeden ersten und letzten Dienstag im Monat von 17:00- 19:00 Uhr
URL:https://werkstatt.insel-ev.de/event/textiles-repair-cafe-2-2/2026-01-27
LOCATION:Offener Werkstatt-Treff\, Elbgaustraße 244\, Lurup\, Hamburg\, 22547\, Deutschland
CATEGORIES:Gruppe
ATTACH;FMTTYPE=image/jpeg:https://werkstatt.insel-ev.de/wp-content/uploads/2025/08/IMG_20250813_163137-scaled.jpg
ORGANIZER;CN="Offene Werkstatt":MAILTO:werkstatt@insel-ev.de
END:VEVENT
BEGIN:VEVENT
DTSTART;TZID=Europe/Berlin:20260128T140000
DTEND;TZID=Europe/Berlin:20260128T160000
DTSTAMP:20260424T143347
CREATED:20251205T155157Z
LAST-MODIFIED:20260309T161255Z
UID:10001140-1769608800-1769616000@werkstatt.insel-ev.de
SUMMARY:Seifenkurs
DESCRIPTION:Naturseifen bieten eine tolle Pflege und kommen ohne Umverpackung daher. In vielen Rezepten sind jedoch Palm- oder Kokosöle enthalten. Wir wollen in diesem Kurs eine Seife aus nachhaltigeren Zutaten sieden\, die wunderbar zur Haut und zur Umwelt ist. \nIhr lernt die Grundbegriffe des Seifesiedens und die wichtigsten Zutaten kennen. Zusammen stellen wir dann eine Seife her. \nNach ein paar Tagen könnt ihr eure Seifenstücke (je nach Form und Größe ca. 2-3 Stück) abholen. Das erste Mal benutzen könnt ihr die Seife nach 6-8 Wochen\, also noch genau richtig für die Weihnachtsgeschenke. \nDa wir mit Lauge arbeiten bitte alte Kleidung oder eine Schürze mitzubringen. \nWir wünschen uns von den Menschen\, denen es möglich ist\, eine Materialkostenpauschale von 6 Euro für die Öle und Zutaten. Alle anderen sind herzlich eingeladen zu geben was geht oder wie immer kostenlos teilzunehmen.  \nKaffee\, Tee und Wasser halten wir in der Werkstatt für euch bereit.\nWir freuen uns auf euch! \nAnmeldung: Bitte schreibe eine Mail an werkstatt@insel-ev.de oder sag uns telefonisch Bescheid.
URL:https://werkstatt.insel-ev.de/event/seifenkurs-2-2/2026-01-28
LOCATION:Offener Werkstatt-Treff\, Elbgaustraße 244\, Lurup\, Hamburg\, 22547\, Deutschland
CATEGORIES:Einführung
ATTACH;FMTTYPE=image/jpeg:https://werkstatt.insel-ev.de/wp-content/uploads/2024/07/Bild-SEife-scaled.jpg
ORGANIZER;CN="Offene Werkstatt":MAILTO:werkstatt@insel-ev.de
END:VEVENT
END:VCALENDAR