BEGIN:VCALENDAR
VERSION:2.0
PRODID:-//Offene Werkstatt - ECPv6.15.20//NONSGML v1.0//EN
CALSCALE:GREGORIAN
METHOD:PUBLISH
X-WR-CALNAME:Offene Werkstatt
X-ORIGINAL-URL:https://werkstatt.insel-ev.de
X-WR-CALDESC:Veranstaltungen für Offene Werkstatt
REFRESH-INTERVAL;VALUE=DURATION:PT1H
X-Robots-Tag:noindex
X-PUBLISHED-TTL:PT1H
BEGIN:VTIMEZONE
TZID:Europe/Berlin
BEGIN:DAYLIGHT
TZOFFSETFROM:+0100
TZOFFSETTO:+0200
TZNAME:CEST
DTSTART:20250330T010000
END:DAYLIGHT
BEGIN:STANDARD
TZOFFSETFROM:+0200
TZOFFSETTO:+0100
TZNAME:CET
DTSTART:20251026T010000
END:STANDARD
BEGIN:DAYLIGHT
TZOFFSETFROM:+0100
TZOFFSETTO:+0200
TZNAME:CEST
DTSTART:20260329T010000
END:DAYLIGHT
BEGIN:STANDARD
TZOFFSETFROM:+0200
TZOFFSETTO:+0100
TZNAME:CET
DTSTART:20261025T010000
END:STANDARD
BEGIN:DAYLIGHT
TZOFFSETFROM:+0100
TZOFFSETTO:+0200
TZNAME:CEST
DTSTART:20270328T010000
END:DAYLIGHT
BEGIN:STANDARD
TZOFFSETFROM:+0200
TZOFFSETTO:+0100
TZNAME:CET
DTSTART:20271031T010000
END:STANDARD
END:VTIMEZONE
BEGIN:VEVENT
DTSTART;TZID=Europe/Berlin:20260304T140000
DTEND;TZID=Europe/Berlin:20260304T160000
DTSTAMP:20260422T121703
CREATED:20251205T154909Z
LAST-MODIFIED:20260309T161832Z
UID:10001520-1772632800-1772640000@werkstatt.insel-ev.de
SUMMARY:Löten lernen und eine Solarlampe bauen
DESCRIPTION:Du wolltest immer schon mal löten lernen?\nUnter fachkundiger Leitung baut jede_r Teilnehmende ein Solarlicht\, das am Ende mit nach Hause genommen werden kann.\nIn einer kleinen Gruppe kannst du erste Erfahrungen beim Löten sammeln und eine\nPlatine mit elektrischen Bauteilen bestücken.\nEs sind keine Vorkenntnisse erforderlich. \nMaterial und Werkzeug haben wir für euch in der Werkstatt und\nauch Kaffee\, Tee und Wasser halten wir in der Werkstatt bereit. \nWir freuen uns auf euch. \nAnmeldung: Bitte sag uns telefonisch Bescheid oder\nschreib eine Mail an werkstatt@insel-ev.de
URL:https://werkstatt.insel-ev.de/event/loeten-lernen-und-eine-solarlampe-bauen/2026-03-04
LOCATION:Offene Werkstatt\, Elbgaustraße 244\, Hamburg\, Hamburg\, 22547\, Deutschland
CATEGORIES:Einführung
ATTACH;FMTTYPE=image/jpeg:https://werkstatt.insel-ev.de/wp-content/uploads/2025/08/loetkurs-scaled.jpg
ORGANIZER;CN="Offene Werkstatt":MAILTO:werkstatt@insel-ev.de
END:VEVENT
BEGIN:VEVENT
DTSTART;TZID=Europe/Berlin:20260305T160000
DTEND;TZID=Europe/Berlin:20260305T190000
DTSTAMP:20260422T121703
CREATED:20260114T164416Z
LAST-MODIFIED:20260212T152736Z
UID:10001561-1772726400-1772737200@werkstatt.insel-ev.de
SUMMARY:“Eimer für alle” – unser lokales Kunststoff-Sammelsystem - Workshop Teil 1
DESCRIPTION:Der neuste Schrei! Machste mit? \n“Eimer für alle” – unser lokales Kunststoff-Sammelsystem  \n  \nWorkshop I: Was ist das Problem? Do. 5.3.\, 16-19h\nWir gucken\, was es schon an Möglichkeiten gibt\, lokal Plastik zu sammeln. Und woran lokales Plastikrecycling bislang scheitert. Und dann besprechen wir die Kriterien\, die unsere neue Lösung beinhalten soll. Zum Beispiel mögliche Bauweisen\, Design\, Standorte und Befestigungsmöglichkeiten. \n  \nUm noch mehr Plastikabfälle für einen sozialen\, gemeinnützigen und nachhaltigen Produktkreislauf zu gewinnen – statt dass sie verbrannt werden – möchten wir die Sammlung vereinfachen. Und dabei zugleich noch mehr Menschen einladen\, sich für Kunststoffrecycling zu engagieren. \nDer Plan: \nZuerst entwickeln wir zusammen Sammelbehälter aus Plastikmüll und testen sie. \nIm Anschluss bauen wir gemeinsam ein lokales Kunststoff-Sammelsystem auf: aus dem gesammelten Plastik werden so lange weitere Sammelbehälter gebaut\, bis alle mit ihnen versorgt sind. „Alle“ meint z.B. Vereine\, Schulen\, soziale Einrichtungen\, Supermärkte oder auch Unternehmen in der Umgebung. \nDie Abholung erfolgt CO2-neutral mit einem E-Lastenrad. \n  \nDie ersten Schritte & Termine: \n\nWorkshop I: Was ist das Problem? Do. 5.3.\, 16-19h\nWir gucken\, was es schon an Möglichkeiten gibt\, lokal Plastik zu sammeln. Und woran lokales Plastikrecycling bislang scheitert. Und dann besprechen wir die Kriterien\, die unsere neue Lösung beinhalten soll. Zum Beispiel mögliche Bauweisen\, Design\, Standorte und Befestigungsmöglichkeiten.\nWorkshop II:  Wie sieht die Lösung aus? Mi. 11.3.\, 17-19.30h\nWir finden gemeinsam konkrete Ideen für unser neues Sammelsystem: Die Bauweise der Behälter\, möglichen Features\, Aufstellorte\, Pat:innen\, Ideen zur Logistik bis hin zur Werbung.\n\n\nBau der Prototypen: 02.04.\, 11-16h (Teil 1)\nAlle\, die Lust haben\, bauen gemeinsam die neuen Sammelbehälter. Danach werden sie getestet.\nKick-Off & Aufstellung der ersten „Eimer für alle“ Do. 16.4. (Uhrzeit kommt noch)\nWir treffen uns mit allen Interessierten und hängen die ersten drei Behälter in Lurup und Umgebung auf.\n\n  \nDanach geht es weiter… und wenn es klappt\, hört es erstmal nicht auf 😎 \n  \nQuelle Bild: vecteezy.com
URL:https://werkstatt.insel-ev.de/event/eimer-fuer-alle-unser-lokales-kunststoff-sammelsystem-workshop-teil-1
LOCATION:Offener Werkstatt-Treff\, Elbgaustraße 244\, Lurup\, Hamburg\, 22547\, Deutschland
CATEGORIES:Plastikrecycling
ATTACH;FMTTYPE=image/png:https://werkstatt.insel-ev.de/wp-content/uploads/2026/01/vecteezy_overflowing-trash-can-on-transparent-background_48413110-scaled.png
ORGANIZER;CN="Offene Werkstatt":MAILTO:werkstatt@insel-ev.de
END:VEVENT
END:VCALENDAR