BEGIN:VCALENDAR
VERSION:2.0
PRODID:-//Offene Werkstatt - ECPv6.15.20//NONSGML v1.0//EN
CALSCALE:GREGORIAN
METHOD:PUBLISH
X-WR-CALNAME:Offene Werkstatt
X-ORIGINAL-URL:https://werkstatt.insel-ev.de
X-WR-CALDESC:Veranstaltungen für Offene Werkstatt
REFRESH-INTERVAL;VALUE=DURATION:PT1H
X-Robots-Tag:noindex
X-PUBLISHED-TTL:PT1H
BEGIN:VTIMEZONE
TZID:Europe/Berlin
BEGIN:DAYLIGHT
TZOFFSETFROM:+0100
TZOFFSETTO:+0200
TZNAME:CEST
DTSTART:20250330T010000
END:DAYLIGHT
BEGIN:STANDARD
TZOFFSETFROM:+0200
TZOFFSETTO:+0100
TZNAME:CET
DTSTART:20251026T010000
END:STANDARD
BEGIN:DAYLIGHT
TZOFFSETFROM:+0100
TZOFFSETTO:+0200
TZNAME:CEST
DTSTART:20260329T010000
END:DAYLIGHT
BEGIN:STANDARD
TZOFFSETFROM:+0200
TZOFFSETTO:+0100
TZNAME:CET
DTSTART:20261025T010000
END:STANDARD
BEGIN:DAYLIGHT
TZOFFSETFROM:+0100
TZOFFSETTO:+0200
TZNAME:CEST
DTSTART:20270328T010000
END:DAYLIGHT
BEGIN:STANDARD
TZOFFSETFROM:+0200
TZOFFSETTO:+0100
TZNAME:CET
DTSTART:20271031T010000
END:STANDARD
END:VTIMEZONE
BEGIN:VEVENT
DTSTART;TZID=Europe/Berlin:20260310T170000
DTEND;TZID=Europe/Berlin:20260310T190000
DTSTAMP:20260424T121657
CREATED:20251217T124651Z
LAST-MODIFIED:20260309T160159Z
UID:10001551-1773162000-1773169200@werkstatt.insel-ev.de
SUMMARY:Elektro-Selbsthilfe / Repair-Café
DESCRIPTION:Wenn der Wasserkocher nicht mehr will\, der Akkuschrauber komische Geräusche macht und der Fön\nnur noch kalte Luft bläst: \nDann gib ihnen die Chance auf ein zweites Leben und komm zu uns zur Elektro-Selbsthilfe. \nWir bieten dir die Möglichkeit\, dein kaputtes Gerät unter Anleitung selber zu reparieren. \nWenn ihr Gebrauchsgegenstände der persönlichen Hygiene mitbringt\, wie zum Beispiel einen Rasierer\, dann kommt bitte mit gereinigten Geräten. \nVon der Reparatur ausgeschlossen sind: Handys\, HiFi-Geräte\, Kaffeevollautomaten und PC sowie deren Zubehör. \nEine Anmeldung für dieses Angebot ist unbedingt erforderlich. \nKaffee\, Tee und Wasser halten wir in der Werkstatt für euch bereit. \nWir freuen uns auf euch. \nAnmeldung: Bitte sag uns telefonisch Bescheid oder\nschreib eine Mail an werkstatt@insel-ev.de
URL:https://werkstatt.insel-ev.de/event/elektro-selbsthilfe-repair-cafe/2026-03-10
LOCATION:Offener Werkstatt-Treff\, Elbgaustraße 244\, Lurup\, Hamburg\, 22547\, Deutschland
ATTACH;FMTTYPE=image/jpeg:https://werkstatt.insel-ev.de/wp-content/uploads/2025/12/signal-2025-12-17-12-01-01-308.jpg
ORGANIZER;CN="Offene Werkstatt":MAILTO:werkstatt@insel-ev.de
END:VEVENT
BEGIN:VEVENT
DTSTART;TZID=Europe/Berlin:20260311T140000
DTEND;TZID=Europe/Berlin:20260311T160000
DTSTAMP:20260424T121657
CREATED:20260114T162122Z
LAST-MODIFIED:20260114T162122Z
UID:10001560-1773237600-1773244800@werkstatt.insel-ev.de
SUMMARY:Kurs: Spleißen lernen
DESCRIPTION:Spleißen ist eine Handwerkskunst.\nEin Spleiß sieht nicht nur elegant und maritim aus\, sondern hält auch wesentlich besser als ein Knoten.\nIn diesem Kurs gibt uns ein erfahrener Seemann Einblicke und Anleitung in die Technik des Spleißens. Alle Teilnehmenden können an einen Stück Tauwerk erste eigene Erfahrungen sammeln. \nKaffee\, Tee und Wasser halten wir in der Werkstatt für euch bereit. \nWir freuen uns auf euch. \nAnmeldung: Bitte sag uns telefonisch Bescheid oder\nschreib eine Mail an werkstatt@insel-ev.de
URL:https://werkstatt.insel-ev.de/event/kurs-spleissen-lernen
LOCATION:Offener Werkstatt-Treff\, Elbgaustraße 244\, Lurup\, Hamburg\, 22547\, Deutschland
CATEGORIES:Einführung
ATTACH;FMTTYPE=image/png:https://werkstatt.insel-ev.de/wp-content/uploads/2026/01/Splitsar.png
ORGANIZER;CN="Offene Werkstatt":MAILTO:werkstatt@insel-ev.de
END:VEVENT
BEGIN:VEVENT
DTSTART;TZID=Europe/Berlin:20260311T170000
DTEND;TZID=Europe/Berlin:20260311T193000
DTSTAMP:20260424T121657
CREATED:20260212T153136Z
LAST-MODIFIED:20260212T153136Z
UID:10001563-1773248400-1773257400@werkstatt.insel-ev.de
SUMMARY:“Eimer für alle” – unser lokales Kunststoff-Sammelsystem - Workshop Teil 2
DESCRIPTION:Der neuste Schrei! Machste mit? \n“Eimer für alle” – unser lokales Kunststoff-Sammelsystem  \n  \nWorkshop II:  Wie sieht die Lösung aus? Mi. 11.3.\, 17-19.30h\nWir finden gemeinsam konkrete Ideen für unser neues Sammelsystem: Die Bauweise der Behälter\, möglichen Features\, Aufstellorte\, Pat:innen\, Ideen zur Logistik bis hin zur Werbung. \n  \nUm noch mehr Plastikabfälle für einen sozialen\, gemeinnützigen und nachhaltigen Produktkreislauf zu gewinnen – statt dass sie verbrannt werden – möchten wir die Sammlung vereinfachen. Und dabei zugleich noch mehr Menschen einladen\, sich für Kunststoffrecycling zu engagieren. \nDer Plan: \nZuerst entwickeln wir zusammen Sammelbehälter aus Plastikmüll und testen sie. \nIm Anschluss bauen wir gemeinsam ein lokales Kunststoff-Sammelsystem auf: aus dem gesammelten Plastik werden so lange weitere Sammelbehälter gebaut\, bis alle mit ihnen versorgt sind. „Alle“ meint z.B. Vereine\, Schulen\, soziale Einrichtungen\, Supermärkte oder auch Unternehmen in der Umgebung. Die Abholung erfolgt CO2-neutral mit einem E-Lastenrad. \n  \nDie nächsten Schritte & Termine: \nWorkshop Nr. 3: Bau der Prototypen: 02.04.\, 11-16h (Teil 1)\nAlle\, die Lust haben\, bauen gemeinsam die neuen Sammelbehälter. Danach werden sie getestet. \nWorkshop Nr. 4: Kick-Off & Aufstellung der ersten „Eimer für alle“ Do. 16.4. (Uhrzeit kommt noch)\nWir treffen uns mit allen Interessierten und hängen die ersten drei Behälter in Lurup und Umgebung auf. \n  \nDanach geht es weiter… und wenn es klappt\, hört es erstmal nicht auf 😎 \n  \nQuelle Bild: vecteezy.com
URL:https://werkstatt.insel-ev.de/event/eimer-fuer-alle-unser-lokales-kunststoff-sammelsystem-workshop-teil-2
LOCATION:Offener Werkstatt-Treff\, Elbgaustraße 244\, Lurup\, Hamburg\, 22547\, Deutschland
CATEGORIES:Plastikrecycling
ATTACH;FMTTYPE=image/png:https://werkstatt.insel-ev.de/wp-content/uploads/2026/01/vecteezy_overflowing-trash-can-on-transparent-background_48413110-scaled.png
ORGANIZER;CN="Offene Werkstatt":MAILTO:werkstatt@insel-ev.de
END:VEVENT
BEGIN:VEVENT
DTSTART;TZID=Europe/Berlin:20260312T160000
DTEND;TZID=Europe/Berlin:20260312T173000
DTSTAMP:20260424T121657
CREATED:20251217T133007Z
LAST-MODIFIED:20260106T125537Z
UID:10001553-1773331200-1773336600@werkstatt.insel-ev.de
SUMMARY:Vortrag über Vorsorgevollmacht\, Patientenverfügung und Betreuungsverfügung
DESCRIPTION:Der Betreuungsverein insel e.V. lädt euch ein zu einem Vortrag\nüber Vorsorgevollmacht\, Patientenverfügung und Betreuungsverfügung. \nIn dieser Veranstaltung erhaltet ihr wertvolle Informationen zu folgenden Themen:\n• Vorsorgenvollmacht: wie kannst Du sicherstellen\, dass Deine Wünsche respektiert werden?\n• Patientenverfügung: Deine Entscheidungen zu medizinischen Maßnahmen im Ernstfall festhalten.\n• Betreuungsverfügung: die richtige Regelung für Deine Unterstützung. \nDen Vortrag hält Anette Neu\, Mitarbeiterin des Betreuungsvereins von insel e.V. \n  \nWir freuen uns auf Dein Kommen\, auf Deine Fragen und auf eine rege Auseinandersetzung zu diesem wichtigen Thema. \nBitte meldet euch wie gewohnt für diese Veranstaltung an: per Mail unter werkstatt@insel-ev.de oder telefonisch unter 040 – 380 38 36 – 244. \nBei inhaltlichen Rückfragen meldet euch gern bei Anette: 040 / 380 38 36 – 810.
URL:https://werkstatt.insel-ev.de/event/vortrag-ueber-vorsorgevollmacht-patientenverfuegung-und-betreuungsverfuegung
LOCATION:Offener Werkstatt-Treff\, Elbgaustraße 244\, Lurup\, Hamburg\, 22547\, Deutschland
CATEGORIES:Einführung
ATTACH;FMTTYPE=image/jpeg:https://werkstatt.insel-ev.de/wp-content/uploads/2025/12/Ehrenaml_Betreuende_iStock-121233043.jpg
ORGANIZER;CN="Offene Werkstatt":MAILTO:werkstatt@insel-ev.de
END:VEVENT
END:VCALENDAR