BEGIN:VCALENDAR
VERSION:2.0
PRODID:-//Offene Werkstatt - ECPv6.15.20//NONSGML v1.0//EN
CALSCALE:GREGORIAN
METHOD:PUBLISH
X-WR-CALNAME:Offene Werkstatt
X-ORIGINAL-URL:https://werkstatt.insel-ev.de
X-WR-CALDESC:Veranstaltungen für Offene Werkstatt
REFRESH-INTERVAL;VALUE=DURATION:PT1H
X-Robots-Tag:noindex
X-PUBLISHED-TTL:PT1H
BEGIN:VTIMEZONE
TZID:Europe/Berlin
BEGIN:DAYLIGHT
TZOFFSETFROM:+0100
TZOFFSETTO:+0200
TZNAME:CEST
DTSTART:20250330T010000
END:DAYLIGHT
BEGIN:STANDARD
TZOFFSETFROM:+0200
TZOFFSETTO:+0100
TZNAME:CET
DTSTART:20251026T010000
END:STANDARD
BEGIN:DAYLIGHT
TZOFFSETFROM:+0100
TZOFFSETTO:+0200
TZNAME:CEST
DTSTART:20260329T010000
END:DAYLIGHT
BEGIN:STANDARD
TZOFFSETFROM:+0200
TZOFFSETTO:+0100
TZNAME:CET
DTSTART:20261025T010000
END:STANDARD
BEGIN:DAYLIGHT
TZOFFSETFROM:+0100
TZOFFSETTO:+0200
TZNAME:CEST
DTSTART:20270328T010000
END:DAYLIGHT
BEGIN:STANDARD
TZOFFSETFROM:+0200
TZOFFSETTO:+0100
TZNAME:CET
DTSTART:20271031T010000
END:STANDARD
END:VTIMEZONE
BEGIN:VEVENT
DTSTART;TZID=Europe/Berlin:20260421T170000
DTEND;TZID=Europe/Berlin:20260421T190000
DTSTAMP:20260421T120727
CREATED:20260309T160338Z
LAST-MODIFIED:20260309T160338Z
UID:10001704-1776790800-1776798000@werkstatt.insel-ev.de
SUMMARY:Elektro-Selbsthilfe / Repair-Café
DESCRIPTION:Wenn der Wasserkocher nicht mehr will\, der Akkuschrauber komische Geräusche macht und der Fön\nnur noch kalte Luft bläst: \nDann gib ihnen die Chance auf ein zweites Leben und komm zu uns zur Elektro-Selbsthilfe. \nWir bieten dir die Möglichkeit\, dein kaputtes Gerät unter Anleitung selber zu reparieren. \nWenn ihr Gebrauchsgegenstände der persönlichen Hygiene mitbringt\, wie zum Beispiel einen Rasierer\, dann kommt bitte mit gereinigten Geräten. \nVon der Reparatur ausgeschlossen sind: Handys\, HiFi-Geräte\, Kaffeevollautomaten und PC sowie deren Zubehör. \nEine Anmeldung für dieses Angebot ist unbedingt erforderlich. \nKaffee\, Tee und Wasser halten wir in der Werkstatt für euch bereit. \nWir freuen uns auf euch. \nAnmeldung: Bitte sag uns telefonisch Bescheid oder\nschreib eine Mail an werkstatt@insel-ev.de
URL:https://werkstatt.insel-ev.de/event/elektro-selbsthilfe-repair-cafe-2/2026-04-21
LOCATION:Offener Werkstatt-Treff\, Elbgaustraße 244\, Lurup\, Hamburg\, 22547\, Deutschland
ATTACH;FMTTYPE=image/jpeg:https://werkstatt.insel-ev.de/wp-content/uploads/2025/12/signal-2025-12-17-12-01-01-308.jpg
ORGANIZER;CN="Offene Werkstatt":MAILTO:werkstatt@insel-ev.de
END:VEVENT
BEGIN:VEVENT
DTSTART;TZID=Europe/Berlin:20260422T140000
DTEND;TZID=Europe/Berlin:20260422T160000
DTSTAMP:20260421T120727
CREATED:20251205T154909Z
LAST-MODIFIED:20260309T161832Z
UID:10001764-1776866400-1776873600@werkstatt.insel-ev.de
SUMMARY:Löten lernen und eine Solarlampe bauen
DESCRIPTION:Du wolltest immer schon mal löten lernen?\nUnter fachkundiger Leitung baut jede_r Teilnehmende ein Solarlicht\, das am Ende mit nach Hause genommen werden kann.\nIn einer kleinen Gruppe kannst du erste Erfahrungen beim Löten sammeln und eine\nPlatine mit elektrischen Bauteilen bestücken.\nEs sind keine Vorkenntnisse erforderlich. \nMaterial und Werkzeug haben wir für euch in der Werkstatt und\nauch Kaffee\, Tee und Wasser halten wir in der Werkstatt bereit. \nWir freuen uns auf euch. \nAnmeldung: Bitte sag uns telefonisch Bescheid oder\nschreib eine Mail an werkstatt@insel-ev.de
URL:https://werkstatt.insel-ev.de/event/loeten-lernen-und-eine-solarlampe-bauen/2026-04-22
LOCATION:Offene Werkstatt\, Elbgaustraße 244\, Hamburg\, Hamburg\, 22547\, Deutschland
CATEGORIES:Einführung
ATTACH;FMTTYPE=image/jpeg:https://werkstatt.insel-ev.de/wp-content/uploads/2025/08/loetkurs-scaled.jpg
ORGANIZER;CN="Offene Werkstatt":MAILTO:werkstatt@insel-ev.de
END:VEVENT
BEGIN:VEVENT
DTSTART;TZID=Europe/Berlin:20260423T160000
DTEND;TZID=Europe/Berlin:20260423T180000
DTSTAMP:20260421T120727
CREATED:20260402T150835Z
LAST-MODIFIED:20260402T150835Z
UID:10001775-1776960000-1776967200@werkstatt.insel-ev.de
SUMMARY:Kreatives Schreiben zum Thema Recycling
DESCRIPTION:Das geheime Leben einer leeren Plastikflasche \nKreatives Schreiben zum Thema Recycling \n  \nWir schreiben drauflos\, ohne innere Zensur. Als Anregung gibt es Schreibaufgaben\, sodass die Phantasie beflügelt wird. \nKaffee\, Tee und Wasser halten wir in der Werkstatt für euch bereit. \nWir freuen uns auf euch. \nAnmeldung: Bitte sag uns telefonisch Bescheid oder\nschreib eine Mail an werkstatt@insel-ev.de
URL:https://werkstatt.insel-ev.de/event/kreatives-schreiben-zum-thema-recycling
LOCATION:Offener Werkstatt-Treff\, Elbgaustraße 244\, Lurup\, Hamburg\, 22547\, Deutschland
CATEGORIES:Einführung,Freizeit,Training,Workshop
ATTACH;FMTTYPE=image/jpeg:https://werkstatt.insel-ev.de/wp-content/uploads/2026/04/bild-schreibkurs-scaled.jpg
ORGANIZER;CN="Offene Werkstatt":MAILTO:werkstatt@insel-ev.de
END:VEVENT
END:VCALENDAR